BEGIN:VCALENDAR
VERSION:2.0
PRODID:-// - ECPv6.15.20//NONSGML v1.0//EN
CALSCALE:GREGORIAN
METHOD:PUBLISH
X-ORIGINAL-URL:https://www.eggerode.de
X-WR-CALDESC:Veranstaltungen für 
REFRESH-INTERVAL;VALUE=DURATION:PT1H
X-Robots-Tag:noindex
X-PUBLISHED-TTL:PT1H
BEGIN:VTIMEZONE
TZID:Europe/Berlin
BEGIN:DAYLIGHT
TZOFFSETFROM:+0100
TZOFFSETTO:+0200
TZNAME:CEST
DTSTART:20230326T010000
END:DAYLIGHT
BEGIN:STANDARD
TZOFFSETFROM:+0200
TZOFFSETTO:+0100
TZNAME:CET
DTSTART:20231029T010000
END:STANDARD
BEGIN:DAYLIGHT
TZOFFSETFROM:+0100
TZOFFSETTO:+0200
TZNAME:CEST
DTSTART:20240331T010000
END:DAYLIGHT
BEGIN:STANDARD
TZOFFSETFROM:+0200
TZOFFSETTO:+0100
TZNAME:CET
DTSTART:20241027T010000
END:STANDARD
BEGIN:DAYLIGHT
TZOFFSETFROM:+0100
TZOFFSETTO:+0200
TZNAME:CEST
DTSTART:20250330T010000
END:DAYLIGHT
BEGIN:STANDARD
TZOFFSETFROM:+0200
TZOFFSETTO:+0100
TZNAME:CET
DTSTART:20251026T010000
END:STANDARD
END:VTIMEZONE
BEGIN:VEVENT
DTSTART;VALUE=DATE:20241201
DTEND;VALUE=DATE:20241202
DTSTAMP:20260421T134639
CREATED:20231017T120329Z
LAST-MODIFIED:20231017T120329Z
UID:6459-1733011200-1733097599@www.eggerode.de
SUMMARY:Krippenausstellung
DESCRIPTION:
URL:https://www.eggerode.de/event/krippenausstellung-4/
LOCATION:Heimatstube Eggerode
CATEGORIES:Veranstaltungen
END:VEVENT
BEGIN:VEVENT
DTSTART;VALUE=DATE:20241201
DTEND;VALUE=DATE:20241202
DTSTAMP:20260421T134639
CREATED:20231017T090005Z
LAST-MODIFIED:20231017T090005Z
UID:6383-1733011200-1733097599@www.eggerode.de
SUMMARY:Nikolausempfang und Nikolausmarkt
DESCRIPTION:
URL:https://www.eggerode.de/event/nikolausempfang-und-nikolausmarkt/
LOCATION:Kirchplatz Eggerode
CATEGORIES:Veranstaltungen
END:VEVENT
BEGIN:VEVENT
DTSTART;TZID=Europe/Berlin:20241201T100000
DTEND;TZID=Europe/Berlin:20241201T110000
DTSTAMP:20260421T134639
CREATED:20231017T085354Z
LAST-MODIFIED:20231017T085354Z
UID:6371-1733047200-1733050800@www.eggerode.de
SUMMARY:Vorstellung der Kommunionkinder
DESCRIPTION:
URL:https://www.eggerode.de/event/vorstellung-der-kommunionkinder-2/
LOCATION:Kirche St. Marien
CATEGORIES:Kirchliche Veranstaltung
END:VEVENT
BEGIN:VEVENT
DTSTART;TZID=Europe/Berlin:20241202T143000
DTEND;TZID=Europe/Berlin:20241202T170000
DTSTAMP:20260421T134639
CREATED:20231017T080101Z
LAST-MODIFIED:20231017T080134Z
UID:6349-1733149800-1733158800@www.eggerode.de
SUMMARY:Weihnachtsfeier Seniorengemeinschaft
DESCRIPTION:
URL:https://www.eggerode.de/event/weihnachtsfeier-seniorengemeinschaft-2/
LOCATION:Pfarrheim Eggerode
CATEGORIES:Veranstaltungen
END:VEVENT
BEGIN:VEVENT
DTSTART;VALUE=DATE:20241205
DTEND;VALUE=DATE:20241206
DTSTAMP:20260421T134639
CREATED:20231017T085907Z
LAST-MODIFIED:20231017T085907Z
UID:6381-1733356800-1733443199@www.eggerode.de
SUMMARY:Hausbesuche Nikolausverein Eggerode und Bauerschaften
DESCRIPTION:
URL:https://www.eggerode.de/event/hausbesuche-nikolausverein-eggerode-und-bauerschaften/
CATEGORIES:Veranstaltungen
END:VEVENT
BEGIN:VEVENT
DTSTART;TZID=Europe/Berlin:20241206T080000
DTEND;TZID=Europe/Berlin:20241206T170000
DTSTAMP:20260421T134639
CREATED:20231018T090200Z
LAST-MODIFIED:20231018T090200Z
UID:6591-1733472000-1733504400@www.eggerode.de
SUMMARY:Messe\, anschl. Adventsfeier der Eggeroder Frauen
DESCRIPTION:
URL:https://www.eggerode.de/event/messe-anschl-adventsfeier-der-eggeroder-frauen/
LOCATION:Pfarrheim Eggerode
CATEGORIES:Veranstaltungen
END:VEVENT
BEGIN:VEVENT
DTSTART;TZID=Europe/Berlin:20241208T110000
DTEND;TZID=Europe/Berlin:20241208T130000
DTSTAMP:20260421T134639
CREATED:20231017T181059Z
LAST-MODIFIED:20231017T181059Z
UID:6491-1733655600-1733662800@www.eggerode.de
SUMMARY:offener Frühschoppen
DESCRIPTION:
URL:https://www.eggerode.de/event/offener-fruehschoppen-12/
LOCATION:Heimatstube Eggerode
CATEGORIES:Veranstaltungen
END:VEVENT
BEGIN:VEVENT
DTSTART;TZID=Europe/Berlin:20241211T143000
DTEND;TZID=Europe/Berlin:20241211T180000
DTSTAMP:20260421T134639
CREATED:20231024T092707Z
LAST-MODIFIED:20231025T091644Z
UID:6627-1733927400-1733940000@www.eggerode.de
SUMMARY:Klönnachmittag - Heimatverein
DESCRIPTION:
URL:https://www.eggerode.de/event/kloennachmittag-der-radgruppe-heimatverein-11/
CATEGORIES:Veranstaltungen
END:VEVENT
BEGIN:VEVENT
DTSTART;TZID=Europe/Berlin:20241218T180000
DTEND;TZID=Europe/Berlin:20241218T213000
DTSTAMP:20260421T134639
CREATED:20231017T181642Z
LAST-MODIFIED:20231017T181642Z
UID:6503-1734544800-1734557400@www.eggerode.de
SUMMARY:Wi küert Platt
DESCRIPTION:
URL:https://www.eggerode.de/event/wi-kueert-platt-4/
LOCATION:Heimatstube Eggerode
CATEGORIES:Veranstaltungen
END:VEVENT
BEGIN:VEVENT
DTSTART;VALUE=DATE:20241220
DTEND;VALUE=DATE:20241221
DTSTAMP:20260421T134639
CREATED:20231017T081251Z
LAST-MODIFIED:20231017T081251Z
UID:6359-1734652800-1734739199@www.eggerode.de
SUMMARY:Lebendige Krippe am Freialtar
DESCRIPTION:
URL:https://www.eggerode.de/event/lebendige-krippe-am-freialtar/
LOCATION:Kirchplatz Eggerode
CATEGORIES:Kirchliche Veranstaltung
END:VEVENT
BEGIN:VEVENT
DTSTART;TZID=Europe/Berlin:20241229T150000
DTEND;TZID=Europe/Berlin:20241229T160000
DTSTAMP:20260421T134639
CREATED:20231018T082346Z
LAST-MODIFIED:20231018T082346Z
UID:6559-1735484400-1735488000@www.eggerode.de
SUMMARY:Kirchenmusikalische Andacht
DESCRIPTION:
URL:https://www.eggerode.de/event/kirchenmusikalische-andacht/
LOCATION:Kirche St. Marien
CATEGORIES:Kirchliche Veranstaltung
END:VEVENT
BEGIN:VEVENT
DTSTART;TZID=Europe/Berlin:20241230T183000
DTEND;TZID=Europe/Berlin:20241230T203000
DTSTAMP:20260421T134639
CREATED:20231015T093517Z
LAST-MODIFIED:20231015T094642Z
UID:6317-1735583400-1735590600@www.eggerode.de
SUMMARY:Kartenausgabe für 2025 ASV
DESCRIPTION:
URL:https://www.eggerode.de/event/kartenausgabe-fuer-2025-asv/
LOCATION:Heimatstube Eggerode
CATEGORIES:Veranstaltungen
END:VEVENT
END:VCALENDAR