BEGIN:VCALENDAR
VERSION:2.0
PRODID:-// - ECPv6.15.20//NONSGML v1.0//EN
CALSCALE:GREGORIAN
METHOD:PUBLISH
X-ORIGINAL-URL:https://www.eggerode.de
X-WR-CALDESC:Veranstaltungen für 
REFRESH-INTERVAL;VALUE=DURATION:PT1H
X-Robots-Tag:noindex
X-PUBLISHED-TTL:PT1H
BEGIN:VTIMEZONE
TZID:Europe/Berlin
BEGIN:DAYLIGHT
TZOFFSETFROM:+0100
TZOFFSETTO:+0200
TZNAME:CEST
DTSTART:20230326T010000
END:DAYLIGHT
BEGIN:STANDARD
TZOFFSETFROM:+0200
TZOFFSETTO:+0100
TZNAME:CET
DTSTART:20231029T010000
END:STANDARD
BEGIN:DAYLIGHT
TZOFFSETFROM:+0100
TZOFFSETTO:+0200
TZNAME:CEST
DTSTART:20240331T010000
END:DAYLIGHT
BEGIN:STANDARD
TZOFFSETFROM:+0200
TZOFFSETTO:+0100
TZNAME:CET
DTSTART:20241027T010000
END:STANDARD
BEGIN:DAYLIGHT
TZOFFSETFROM:+0100
TZOFFSETTO:+0200
TZNAME:CEST
DTSTART:20250330T010000
END:DAYLIGHT
BEGIN:STANDARD
TZOFFSETFROM:+0200
TZOFFSETTO:+0100
TZNAME:CET
DTSTART:20251026T010000
END:STANDARD
END:VTIMEZONE
BEGIN:VEVENT
DTSTART;TZID=Europe/Berlin:20241101T200000
DTEND;TZID=Europe/Berlin:20241101T230000
DTSTAMP:20260421T151833
CREATED:20231017T191647Z
LAST-MODIFIED:20231017T191647Z
UID:6525-1730491200-1730502000@www.eggerode.de
SUMMARY:Generalversammlung Schützenverein Heven
DESCRIPTION:
URL:https://www.eggerode.de/event/generalversammlung-schuetzenverein-heven-2/
LOCATION:Gaststätte Küper
CATEGORIES:Veranstaltungen
END:VEVENT
BEGIN:VEVENT
DTSTART;TZID=Europe/Berlin:20241103T100000
DTEND;TZID=Europe/Berlin:20241103T140000
DTSTAMP:20260421T151833
CREATED:20231018T085729Z
LAST-MODIFIED:20231018T085729Z
UID:6583-1730628000-1730642400@www.eggerode.de
SUMMARY:Frauenfrühstück
DESCRIPTION:
URL:https://www.eggerode.de/event/frauenfruehstueck-3/
LOCATION:Pfarrheim Eggerode
CATEGORIES:Veranstaltungen
END:VEVENT
BEGIN:VEVENT
DTSTART;TZID=Europe/Berlin:20241103T110000
DTEND;TZID=Europe/Berlin:20241103T130000
DTSTAMP:20260421T151833
CREATED:20231017T180522Z
LAST-MODIFIED:20231017T180522Z
UID:6475-1730631600-1730638800@www.eggerode.de
SUMMARY:offener Frühschoppen
DESCRIPTION:
URL:https://www.eggerode.de/event/offener-fruehschoppen-4/
LOCATION:Heimatstube Eggerode
CATEGORIES:Veranstaltungen
END:VEVENT
BEGIN:VEVENT
DTSTART;TZID=Europe/Berlin:20241104T140000
DTEND;TZID=Europe/Berlin:20241104T170000
DTSTAMP:20260421T151833
CREATED:20231017T075151Z
LAST-MODIFIED:20231017T080152Z
UID:6329-1730728800-1730739600@www.eggerode.de
SUMMARY:Messe für die Verstorbenen anschl. Seniorennachmittag
DESCRIPTION:
URL:https://www.eggerode.de/event/messe-fuer-die-verstorbenen-anschl-seniorennachmittag-2/
LOCATION:Kirche St. Marien
CATEGORIES:Veranstaltungen
END:VEVENT
BEGIN:VEVENT
DTSTART;TZID=Europe/Berlin:20241107T093000
DTEND;TZID=Europe/Berlin:20241107T133000
DTSTAMP:20260421T151833
CREATED:20241028T171326Z
LAST-MODIFIED:20241028T171326Z
UID:7099-1730971800-1730986200@www.eggerode.de
SUMMARY:Offener Maltreff
DESCRIPTION:
URL:https://www.eggerode.de/event/offener-maltreff/
LOCATION:Heimatstube Eggerode
END:VEVENT
BEGIN:VEVENT
DTSTART;TZID=Europe/Berlin:20241108T200000
DTEND;TZID=Europe/Berlin:20241108T223000
DTSTAMP:20260421T151833
CREATED:20231017T090527Z
LAST-MODIFIED:20231017T090527Z
UID:6393-1731096000-1731105000@www.eggerode.de
SUMMARY:Generalversammlung Schützenbruderschaft
DESCRIPTION:
URL:https://www.eggerode.de/event/generalversammlung-schuetzenbruderschaft/
LOCATION:Hotel Winter
CATEGORIES:Versammlung
END:VEVENT
BEGIN:VEVENT
DTSTART;VALUE=DATE:20241109
DTEND;VALUE=DATE:20241110
DTSTAMP:20260421T151833
CREATED:20231015T094223Z
LAST-MODIFIED:20231015T094702Z
UID:6321-1731110400-1731196799@www.eggerode.de
SUMMARY:Raubfischangeln der Senioren
DESCRIPTION:
URL:https://www.eggerode.de/event/raubfischangeln-der-senioren/
CATEGORIES:Veranstaltungen
END:VEVENT
BEGIN:VEVENT
DTSTART;TZID=Europe/Berlin:20241111T180000
DTEND;TZID=Europe/Berlin:20241111T190000
DTSTAMP:20260421T151833
CREATED:20231017T085048Z
LAST-MODIFIED:20231017T085048Z
UID:6365-1731348000-1731351600@www.eggerode.de
SUMMARY:Martinsumzug
DESCRIPTION:
URL:https://www.eggerode.de/event/martinsumzug-4/
LOCATION:Schulhof Grundschule Eggerode
CATEGORIES:Kirchliche Veranstaltung
END:VEVENT
BEGIN:VEVENT
DTSTART;TZID=Europe/Berlin:20241113T143000
DTEND;TZID=Europe/Berlin:20241113T180000
DTSTAMP:20260421T151833
CREATED:20231024T092541Z
LAST-MODIFIED:20231025T091736Z
UID:6623-1731508200-1731520800@www.eggerode.de
SUMMARY:Klönnachmittag - Heimatverein
DESCRIPTION:
URL:https://www.eggerode.de/event/kloennachmittag-der-radgruppe-heimatverein-9/
CATEGORIES:Veranstaltungen
END:VEVENT
BEGIN:VEVENT
DTSTART;TZID=Europe/Berlin:20241120T180000
DTEND;TZID=Europe/Berlin:20241120T213000
DTSTAMP:20260421T151833
CREATED:20231017T181800Z
LAST-MODIFIED:20231017T181800Z
UID:6507-1732125600-1732138200@www.eggerode.de
SUMMARY:Wi küert Platt
DESCRIPTION:
URL:https://www.eggerode.de/event/wi-kueert-platt-6/
LOCATION:Heimatstube Eggerode
CATEGORIES:Veranstaltungen
END:VEVENT
BEGIN:VEVENT
DTSTART;TZID=Europe/Berlin:20241122T193000
DTEND;TZID=Europe/Berlin:20241122T230000
DTSTAMP:20260421T151833
CREATED:20231017T191357Z
LAST-MODIFIED:20231017T191357Z
UID:6519-1732303800-1732316400@www.eggerode.de
SUMMARY:Weihnachtsfeier SV Eggerode
DESCRIPTION:
URL:https://www.eggerode.de/event/weihnachtsfeier-sv-eggerode-3/
LOCATION:Hotel Winter
CATEGORIES:Veranstaltungen
END:VEVENT
BEGIN:VEVENT
DTSTART;TZID=Europe/Berlin:20241123T170000
DTEND;TZID=Europe/Berlin:20241123T230000
DTSTAMP:20260421T151833
CREATED:20231017T085458Z
LAST-MODIFIED:20231017T085458Z
UID:6373-1732381200-1732402800@www.eggerode.de
SUMMARY:Cäcilienfest
DESCRIPTION:
URL:https://www.eggerode.de/event/caecilienfest-4/
LOCATION:Pfarrheim Eggerode
CATEGORIES:Veranstaltungen
END:VEVENT
BEGIN:VEVENT
DTSTART;TZID=Europe/Berlin:20241126T143000
DTEND;TZID=Europe/Berlin:20241126T180000
DTSTAMP:20260421T151833
CREATED:20231024T092627Z
LAST-MODIFIED:20231025T091707Z
UID:6625-1732631400-1732644000@www.eggerode.de
SUMMARY:Klönnachmittag - Heimatverein
DESCRIPTION:
URL:https://www.eggerode.de/event/kloennachmittag-der-radgruppe-heimatverein-10/
CATEGORIES:Veranstaltungen
END:VEVENT
END:VCALENDAR