BEGIN:VCALENDAR
VERSION:2.0
PRODID:-// - ECPv6.15.20//NONSGML v1.0//EN
CALSCALE:GREGORIAN
METHOD:PUBLISH
X-ORIGINAL-URL:https://www.eggerode.de
X-WR-CALDESC:Veranstaltungen für 
REFRESH-INTERVAL;VALUE=DURATION:PT1H
X-Robots-Tag:noindex
X-PUBLISHED-TTL:PT1H
BEGIN:VTIMEZONE
TZID:Europe/Berlin
BEGIN:DAYLIGHT
TZOFFSETFROM:+0100
TZOFFSETTO:+0200
TZNAME:CEST
DTSTART:20230326T010000
END:DAYLIGHT
BEGIN:STANDARD
TZOFFSETFROM:+0200
TZOFFSETTO:+0100
TZNAME:CET
DTSTART:20231029T010000
END:STANDARD
BEGIN:DAYLIGHT
TZOFFSETFROM:+0100
TZOFFSETTO:+0200
TZNAME:CEST
DTSTART:20240331T010000
END:DAYLIGHT
BEGIN:STANDARD
TZOFFSETFROM:+0200
TZOFFSETTO:+0100
TZNAME:CET
DTSTART:20241027T010000
END:STANDARD
BEGIN:DAYLIGHT
TZOFFSETFROM:+0100
TZOFFSETTO:+0200
TZNAME:CEST
DTSTART:20250330T010000
END:DAYLIGHT
BEGIN:STANDARD
TZOFFSETFROM:+0200
TZOFFSETTO:+0100
TZNAME:CET
DTSTART:20251026T010000
END:STANDARD
END:VTIMEZONE
BEGIN:VEVENT
DTSTART;TZID=Europe/Berlin:20241001T140000
DTEND;TZID=Europe/Berlin:20241001T180000
DTSTAMP:20260421T164105
CREATED:20231017T092402Z
LAST-MODIFIED:20231017T092402Z
UID:6427-1727791200-1727805600@www.eggerode.de
SUMMARY:Fahrradtour Heimatverein
DESCRIPTION:
URL:https://www.eggerode.de/event/fahrradtour-heimatverein-12/
LOCATION:Heimatstube Eggerode
CATEGORIES:Veranstaltungen
END:VEVENT
BEGIN:VEVENT
DTSTART;TZID=Europe/Berlin:20241006T110000
DTEND;TZID=Europe/Berlin:20241006T130000
DTSTAMP:20260421T164105
CREATED:20231017T180802Z
LAST-MODIFIED:20231017T180802Z
UID:6483-1728212400-1728219600@www.eggerode.de
SUMMARY:offener Frühschoppen
DESCRIPTION:
URL:https://www.eggerode.de/event/offener-fruehschoppen-8/
LOCATION:Heimatstube Eggerode
CATEGORIES:Veranstaltungen
END:VEVENT
BEGIN:VEVENT
DTSTART;TZID=Europe/Berlin:20241006T140000
DTEND;TZID=Europe/Berlin:20241006T170000
DTSTAMP:20260421T164105
CREATED:20231017T080734Z
LAST-MODIFIED:20231017T080734Z
UID:6351-1728223200-1728234000@www.eggerode.de
SUMMARY:Erntedank - Kaffee
DESCRIPTION:
URL:https://www.eggerode.de/event/erntedank-kaffee/
LOCATION:Pfarrheim Eggerode
CATEGORIES:Kirchliche Veranstaltung
END:VEVENT
BEGIN:VEVENT
DTSTART;TZID=Europe/Berlin:20241007T140000
DTEND;TZID=Europe/Berlin:20241007T170000
DTSTAMP:20260421T164105
CREATED:20231017T075404Z
LAST-MODIFIED:20231017T080206Z
UID:6333-1728309600-1728320400@www.eggerode.de
SUMMARY:Rosenkranzandacht anschl. Seniorennachmittag
DESCRIPTION:
URL:https://www.eggerode.de/event/rosenkranzandacht-anschl-seniorennachmittag-4/
LOCATION:Kirche St. Marien
CATEGORIES:Veranstaltungen
END:VEVENT
BEGIN:VEVENT
DTSTART;TZID=Europe/Berlin:20241009T200000
DTEND;TZID=Europe/Berlin:20241009T220000
DTSTAMP:20260421T164105
CREATED:20231017T191259Z
LAST-MODIFIED:20231017T191259Z
UID:6517-1728504000-1728511200@www.eggerode.de
SUMMARY:Terminabsprache aller Eggerode Vereine
DESCRIPTION:
URL:https://www.eggerode.de/event/terminabsprache-aller-eggerode-vereine/
LOCATION:Hotel Winter
CATEGORIES:Versammlung
END:VEVENT
BEGIN:VEVENT
DTSTART;TZID=Europe/Berlin:20241012T090000
DTEND;TZID=Europe/Berlin:20241012T170000
DTSTAMP:20260421T164105
CREATED:20240903T072650Z
LAST-MODIFIED:20240903T072650Z
UID:7045-1728723600-1728752400@www.eggerode.de
SUMMARY:Erste - Hilfe - Kursus in der Heimatstube
DESCRIPTION:Details stehen unter der Rubrik „Aktuelles“
URL:https://www.eggerode.de/event/erste-hilfe-kursus-in-der-heimatstube/
LOCATION:Heimatstube Eggerode
CATEGORIES:Veranstaltungen
END:VEVENT
BEGIN:VEVENT
DTSTART;VALUE=DATE:20241013
DTEND;VALUE=DATE:20241014
DTSTAMP:20260421T164105
CREATED:20231015T092903Z
LAST-MODIFIED:20231015T094736Z
UID:6305-1728777600-1728863999@www.eggerode.de
SUMMARY:5. Vereinsangeln
DESCRIPTION:
URL:https://www.eggerode.de/event/5-vereinsangeln/
CATEGORIES:Veranstaltungen
END:VEVENT
BEGIN:VEVENT
DTSTART;TZID=Europe/Berlin:20241015T140000
DTEND;TZID=Europe/Berlin:20241015T180000
DTSTAMP:20260421T164105
CREATED:20231017T092825Z
LAST-MODIFIED:20231017T092825Z
UID:6439-1729000800-1729015200@www.eggerode.de
SUMMARY:Fahrradtour Heimatverein
DESCRIPTION:
URL:https://www.eggerode.de/event/fahrradtour-heimatverein-18/
LOCATION:Heimatstube Eggerode
CATEGORIES:Veranstaltungen
END:VEVENT
BEGIN:VEVENT
DTSTART;TZID=Europe/Berlin:20241015T190000
DTEND;TZID=Europe/Berlin:20241015T200000
DTSTAMP:20260421T164105
CREATED:20231017T085203Z
LAST-MODIFIED:20231017T085203Z
UID:6367-1729018800-1729022400@www.eggerode.de
SUMMARY:Rosenkranzandacht aller Eggeroder Vereine
DESCRIPTION:
URL:https://www.eggerode.de/event/rosenkranzandacht-aller-eggeroder-vereine-2/
LOCATION:Kirche St. Marien
CATEGORIES:Kirchliche Veranstaltung
END:VEVENT
BEGIN:VEVENT
DTSTART;VALUE=DATE:20241016
DTEND;VALUE=DATE:20241019
DTSTAMP:20260421T164105
CREATED:20231018T082249Z
LAST-MODIFIED:20231018T082249Z
UID:6557-1729036800-1729295999@www.eggerode.de
SUMMARY:Kinder - Bibeltage
DESCRIPTION:
URL:https://www.eggerode.de/event/kinder-bibeltage/
CATEGORIES:Kirchliche Veranstaltung
END:VEVENT
BEGIN:VEVENT
DTSTART;TZID=Europe/Berlin:20241016T180000
DTEND;TZID=Europe/Berlin:20241016T213000
DTSTAMP:20260421T164105
CREATED:20231017T181408Z
LAST-MODIFIED:20231017T181408Z
UID:6497-1729101600-1729114200@www.eggerode.de
SUMMARY:Wi küert Platt
DESCRIPTION:
URL:https://www.eggerode.de/event/wi-kueert-platt/
LOCATION:Heimatstube Eggerode
CATEGORIES:Veranstaltungen
END:VEVENT
BEGIN:VEVENT
DTSTART;TZID=Europe/Berlin:20241019T130000
DTEND;TZID=Europe/Berlin:20241019T170000
DTSTAMP:20260421T164105
CREATED:20231015T092808Z
LAST-MODIFIED:20231015T094724Z
UID:6303-1729342800-1729357200@www.eggerode.de
SUMMARY:5. Arbeitstag ASV Eggerode
DESCRIPTION:
URL:https://www.eggerode.de/event/5-arbeitstag-asv-eggerode/
LOCATION:Teichanlage Schulze Sievert
CATEGORIES:Veranstaltungen
END:VEVENT
BEGIN:VEVENT
DTSTART;VALUE=DATE:20241022
DTEND;VALUE=DATE:20241023
DTSTAMP:20260421T164105
CREATED:20231017T120225Z
LAST-MODIFIED:20231017T120225Z
UID:6457-1729555200-1729641599@www.eggerode.de
SUMMARY:Kochen in der Heimatstube
DESCRIPTION:
URL:https://www.eggerode.de/event/kochen-in-der-heimatstube/
LOCATION:Heimatstube Eggerode
CATEGORIES:Veranstaltungen
END:VEVENT
BEGIN:VEVENT
DTSTART;VALUE=DATE:20241026
DTEND;VALUE=DATE:20241027
DTSTAMP:20260421T164105
CREATED:20231015T094409Z
LAST-MODIFIED:20231015T094713Z
UID:6323-1729900800-1729987199@www.eggerode.de
SUMMARY:Raubfischangeln der Junioren
DESCRIPTION:
URL:https://www.eggerode.de/event/raubfischangeln-der-junioren/
CATEGORIES:Veranstaltungen
END:VEVENT
BEGIN:VEVENT
DTSTART;TZID=Europe/Berlin:20241029T140000
DTEND;TZID=Europe/Berlin:20241029T180000
DTSTAMP:20260421T164105
CREATED:20231024T092509Z
LAST-MODIFIED:20231024T092509Z
UID:6621-1730210400-1730224800@www.eggerode.de
SUMMARY:Fahrradtour Heimatverein
DESCRIPTION:
URL:https://www.eggerode.de/event/fahrradtour-heimatverein-24/
LOCATION:Heimatstube Eggerode
CATEGORIES:Veranstaltungen
END:VEVENT
BEGIN:VEVENT
DTSTART;TZID=Europe/Berlin:20241031T183000
DTEND;TZID=Europe/Berlin:20241031T223000
DTSTAMP:20260421T164105
CREATED:20231017T085801Z
LAST-MODIFIED:20231017T085801Z
UID:6379-1730399400-1730413800@www.eggerode.de
SUMMARY:Generalversammlung Nikolausverein
DESCRIPTION:
URL:https://www.eggerode.de/event/generalversammlung-nikolausverein-2/
LOCATION:Hotel Winter
CATEGORIES:Veranstaltungen
END:VEVENT
END:VCALENDAR