BEGIN:VCALENDAR
VERSION:2.0
PRODID:-// - ECPv6.15.20//NONSGML v1.0//EN
CALSCALE:GREGORIAN
METHOD:PUBLISH
X-ORIGINAL-URL:https://www.eggerode.de
X-WR-CALDESC:Veranstaltungen für 
REFRESH-INTERVAL;VALUE=DURATION:PT1H
X-Robots-Tag:noindex
X-PUBLISHED-TTL:PT1H
BEGIN:VTIMEZONE
TZID:Europe/Berlin
BEGIN:DAYLIGHT
TZOFFSETFROM:+0100
TZOFFSETTO:+0200
TZNAME:CEST
DTSTART:20230326T010000
END:DAYLIGHT
BEGIN:STANDARD
TZOFFSETFROM:+0200
TZOFFSETTO:+0100
TZNAME:CET
DTSTART:20231029T010000
END:STANDARD
BEGIN:DAYLIGHT
TZOFFSETFROM:+0100
TZOFFSETTO:+0200
TZNAME:CEST
DTSTART:20240331T010000
END:DAYLIGHT
BEGIN:STANDARD
TZOFFSETFROM:+0200
TZOFFSETTO:+0100
TZNAME:CET
DTSTART:20241027T010000
END:STANDARD
BEGIN:DAYLIGHT
TZOFFSETFROM:+0100
TZOFFSETTO:+0200
TZNAME:CEST
DTSTART:20250330T010000
END:DAYLIGHT
BEGIN:STANDARD
TZOFFSETFROM:+0200
TZOFFSETTO:+0100
TZNAME:CET
DTSTART:20251026T010000
END:STANDARD
END:VTIMEZONE
BEGIN:VEVENT
DTSTART;TZID=Europe/Berlin:20240701T143000
DTEND;TZID=Europe/Berlin:20240701T170000
DTSTAMP:20260421T210041
CREATED:20231017T075459Z
LAST-MODIFIED:20231017T080310Z
UID:6335-1719844200-1719853200@www.eggerode.de
SUMMARY:Seniorennachmittag
DESCRIPTION:
URL:https://www.eggerode.de/event/seniorennachmittag-24/
LOCATION:Pfarrheim Eggerode
CATEGORIES:Veranstaltungen
END:VEVENT
BEGIN:VEVENT
DTSTART;VALUE=DATE:20240706
DTEND;VALUE=DATE:20240707
DTSTAMP:20260421T210041
CREATED:20231017T091015Z
LAST-MODIFIED:20231018T094134Z
UID:6403-1720224000-1720310399@www.eggerode.de
SUMMARY:Schützentag Schützenbruderschaft Eggerode
DESCRIPTION:
URL:https://www.eggerode.de/event/schuetzentag/
CATEGORIES:Veranstaltungen
END:VEVENT
BEGIN:VEVENT
DTSTART;TZID=Europe/Berlin:20240707T110000
DTEND;TZID=Europe/Berlin:20240707T130000
DTSTAMP:20260421T210041
CREATED:20231017T181012Z
LAST-MODIFIED:20231017T181012Z
UID:6489-1720350000-1720357200@www.eggerode.de
SUMMARY:offener Frühschoppen
DESCRIPTION:
URL:https://www.eggerode.de/event/offener-fruehschoppen-11/
LOCATION:Heimatstube Eggerode
CATEGORIES:Veranstaltungen
END:VEVENT
BEGIN:VEVENT
DTSTART;TZID=Europe/Berlin:20240709T140000
DTEND;TZID=Europe/Berlin:20240709T180000
DTSTAMP:20260421T210041
CREATED:20231017T092603Z
LAST-MODIFIED:20231017T092603Z
UID:6433-1720533600-1720548000@www.eggerode.de
SUMMARY:Fahrradtour Heimatverein
DESCRIPTION:
URL:https://www.eggerode.de/event/fahrradtour-heimatverein-15/
LOCATION:Heimatstube Eggerode
CATEGORIES:Veranstaltungen
END:VEVENT
BEGIN:VEVENT
DTSTART;VALUE=DATE:20240712
DTEND;VALUE=DATE:20240727
DTSTAMP:20260421T210041
CREATED:20231017T192654Z
LAST-MODIFIED:20231017T192654Z
UID:6539-1720742400-1722038399@www.eggerode.de
SUMMARY:Zeltlager Eggerode
DESCRIPTION:
URL:https://www.eggerode.de/event/zeltlager-eggerode-3/
CATEGORIES:Veranstaltungen
END:VEVENT
BEGIN:VEVENT
DTSTART;TZID=Europe/Berlin:20240714T110000
DTEND;TZID=Europe/Berlin:20240714T180000
DTSTAMP:20260421T210041
CREATED:20231017T092027Z
LAST-MODIFIED:20231017T092027Z
UID:6421-1720954800-1720980000@www.eggerode.de
SUMMARY:Marienbrunnenfest
DESCRIPTION:
URL:https://www.eggerode.de/event/marienbrunnenfest-5/
CATEGORIES:Veranstaltungen
END:VEVENT
BEGIN:VEVENT
DTSTART;VALUE=DATE:20240715
DTEND;VALUE=DATE:20240727
DTSTAMP:20260421T210041
CREATED:20231017T192808Z
LAST-MODIFIED:20231017T192808Z
UID:6541-1721001600-1722038399@www.eggerode.de
SUMMARY:Ferienspiele Eggerode
DESCRIPTION:
URL:https://www.eggerode.de/event/ferienspiele-eggerode-3/
CATEGORIES:Veranstaltungen
END:VEVENT
BEGIN:VEVENT
DTSTART;VALUE=DATE:20240721
DTEND;VALUE=DATE:20240722
DTSTAMP:20260421T210041
CREATED:20231017T192517Z
LAST-MODIFIED:20231017T192517Z
UID:6535-1721520000-1721606399@www.eggerode.de
SUMMARY:Besuchersonntag Zeltlager
DESCRIPTION:
URL:https://www.eggerode.de/event/besuchersonntag-zeltlager/
CATEGORIES:Veranstaltungen
END:VEVENT
BEGIN:VEVENT
DTSTART;TZID=Europe/Berlin:20240723T140000
DTEND;TZID=Europe/Berlin:20240723T180000
DTSTAMP:20260421T210041
CREATED:20231017T093017Z
LAST-MODIFIED:20231017T093017Z
UID:6445-1721743200-1721757600@www.eggerode.de
SUMMARY:Fahrradtour Heimatverein
DESCRIPTION:
URL:https://www.eggerode.de/event/fahrradtour-heimatverein-21/
LOCATION:Heimatstube Eggerode
CATEGORIES:Veranstaltungen
END:VEVENT
BEGIN:VEVENT
DTSTART;VALUE=DATE:20240726
DTEND;VALUE=DATE:20240729
DTSTAMP:20260421T210041
CREATED:20231017T192607Z
LAST-MODIFIED:20231017T192607Z
UID:6537-1721952000-1722211199@www.eggerode.de
SUMMARY:Jubiläumswochenende Zeltlager
DESCRIPTION:
URL:https://www.eggerode.de/event/jubilaeumswochenende-zeltlager/
CATEGORIES:Veranstaltungen
END:VEVENT
END:VCALENDAR