BEGIN:VCALENDAR
VERSION:2.0
PRODID:-// - ECPv6.15.20//NONSGML v1.0//EN
CALSCALE:GREGORIAN
METHOD:PUBLISH
X-ORIGINAL-URL:https://www.eggerode.de
X-WR-CALDESC:Veranstaltungen für 
REFRESH-INTERVAL;VALUE=DURATION:PT1H
X-Robots-Tag:noindex
X-PUBLISHED-TTL:PT1H
BEGIN:VTIMEZONE
TZID:Europe/Berlin
BEGIN:DAYLIGHT
TZOFFSETFROM:+0100
TZOFFSETTO:+0200
TZNAME:CEST
DTSTART:20230326T010000
END:DAYLIGHT
BEGIN:STANDARD
TZOFFSETFROM:+0200
TZOFFSETTO:+0100
TZNAME:CET
DTSTART:20231029T010000
END:STANDARD
BEGIN:DAYLIGHT
TZOFFSETFROM:+0100
TZOFFSETTO:+0200
TZNAME:CEST
DTSTART:20240331T010000
END:DAYLIGHT
BEGIN:STANDARD
TZOFFSETFROM:+0200
TZOFFSETTO:+0100
TZNAME:CET
DTSTART:20241027T010000
END:STANDARD
BEGIN:DAYLIGHT
TZOFFSETFROM:+0100
TZOFFSETTO:+0200
TZNAME:CEST
DTSTART:20250330T010000
END:DAYLIGHT
BEGIN:STANDARD
TZOFFSETFROM:+0200
TZOFFSETTO:+0100
TZNAME:CET
DTSTART:20251026T010000
END:STANDARD
END:VTIMEZONE
BEGIN:VEVENT
DTSTART;TZID=Europe/Berlin:20240501T100000
DTEND;TZID=Europe/Berlin:20240501T120000
DTSTAMP:20260421T235234
CREATED:20231018T085036Z
LAST-MODIFIED:20231018T085036Z
UID:6571-1714557600-1714564800@www.eggerode.de
SUMMARY:Wallfahrtseröffnung
DESCRIPTION:
URL:https://www.eggerode.de/event/wallfahrtseroeffnung-2/
LOCATION:Kirche St. Marien
CATEGORIES:Kirchliche Veranstaltung
END:VEVENT
BEGIN:VEVENT
DTSTART;TZID=Europe/Berlin:20240503T153000
DTEND;TZID=Europe/Berlin:20240503T170000
DTSTAMP:20260421T235234
CREATED:20231015T092607Z
LAST-MODIFIED:20231015T094925Z
UID:6299-1714750200-1714755600@www.eggerode.de
SUMMARY:3. Arbeitstag ASV Eggerode
DESCRIPTION:
URL:https://www.eggerode.de/event/3-arbeitstag-asv-eggerode/
LOCATION:Teichanlage Schulze Sievert
CATEGORIES:Veranstaltungen
END:VEVENT
BEGIN:VEVENT
DTSTART;TZID=Europe/Berlin:20240505T110000
DTEND;TZID=Europe/Berlin:20240505T130000
DTSTAMP:20260421T235234
CREATED:20231017T180721Z
LAST-MODIFIED:20231017T180721Z
UID:6481-1714906800-1714914000@www.eggerode.de
SUMMARY:offener Frühschoppen
DESCRIPTION:
URL:https://www.eggerode.de/event/offener-fruehschoppen-7/
LOCATION:Heimatstube Eggerode
CATEGORIES:Veranstaltungen
END:VEVENT
BEGIN:VEVENT
DTSTART;VALUE=DATE:20240506
DTEND;VALUE=DATE:20240507
DTSTAMP:20260421T235234
CREATED:20231015T090835Z
LAST-MODIFIED:20231015T094843Z
UID:6297-1714953600-1715039999@www.eggerode.de
SUMMARY:2. Vereinsangeln
DESCRIPTION:
URL:https://www.eggerode.de/event/2-vereinsangeln/
CATEGORIES:Veranstaltungen
END:VEVENT
BEGIN:VEVENT
DTSTART;TZID=Europe/Berlin:20240506T140000
DTEND;TZID=Europe/Berlin:20240506T170000
DTSTAMP:20260421T235234
CREATED:20231017T075054Z
LAST-MODIFIED:20231017T080341Z
UID:6327-1715004000-1715014800@www.eggerode.de
SUMMARY:Maiadacht anschl. Seniorennachmittag
DESCRIPTION:
URL:https://www.eggerode.de/event/maiadacht-anschl-seniorennachmittag/
LOCATION:Kirche St. Marien
CATEGORIES:Veranstaltungen
END:VEVENT
BEGIN:VEVENT
DTSTART;TZID=Europe/Berlin:20240507T190000
DTEND;TZID=Europe/Berlin:20240507T200000
DTSTAMP:20260421T235234
CREATED:20231017T081350Z
LAST-MODIFIED:20231017T084925Z
UID:6361-1715108400-1715112000@www.eggerode.de
SUMMARY:Maiandacht aller Eggeroder Vereine
DESCRIPTION:
URL:https://www.eggerode.de/event/maiandacht-aller-eggeroder-vereine-2/
LOCATION:Kirche St. Marien
CATEGORIES:Kirchliche Veranstaltung
END:VEVENT
BEGIN:VEVENT
DTSTART;VALUE=DATE:20240509
DTEND;VALUE=DATE:20240510
DTSTAMP:20260421T235234
CREATED:20231017T080845Z
LAST-MODIFIED:20231017T080845Z
UID:6353-1715212800-1715299199@www.eggerode.de
SUMMARY:Erstkommunion in Eggerode
DESCRIPTION:
URL:https://www.eggerode.de/event/erstkommunion-in-eggerode/
LOCATION:Kirche St. Marien
CATEGORIES:Kirchliche Veranstaltung
END:VEVENT
BEGIN:VEVENT
DTSTART;TZID=Europe/Berlin:20240514T140000
DTEND;TZID=Europe/Berlin:20240514T180000
DTSTAMP:20260421T235234
CREATED:20231017T092745Z
LAST-MODIFIED:20231017T092745Z
UID:6437-1715695200-1715709600@www.eggerode.de
SUMMARY:Fahrradtour Heimatverein
DESCRIPTION:
URL:https://www.eggerode.de/event/fahrradtour-heimatverein-17/
LOCATION:Heimatstube Eggerode
CATEGORIES:Veranstaltungen
END:VEVENT
BEGIN:VEVENT
DTSTART;TZID=Europe/Berlin:20240521T190000
DTEND;TZID=Europe/Berlin:20240521T220000
DTSTAMP:20260421T235234
CREATED:20231017T120445Z
LAST-MODIFIED:20231017T120445Z
UID:6462-1716318000-1716328800@www.eggerode.de
SUMMARY:Maiandacht up Platt anschl. wi kuert Platt
DESCRIPTION:
URL:https://www.eggerode.de/event/maiandacht-up-platt-anschl-wi-kuert-platt/
LOCATION:Heimatstube Eggerode
CATEGORIES:Veranstaltungen
END:VEVENT
BEGIN:VEVENT
DTSTART;TZID=Europe/Berlin:20240525T140000
DTEND;TZID=Europe/Berlin:20240525T170000
DTSTAMP:20260421T235234
CREATED:20231015T093204Z
LAST-MODIFIED:20231015T094814Z
UID:6311-1716645600-1716656400@www.eggerode.de
SUMMARY:ESM Angeln
DESCRIPTION:
URL:https://www.eggerode.de/event/esm-angeln/
CATEGORIES:Veranstaltungen
END:VEVENT
BEGIN:VEVENT
DTSTART;TZID=Europe/Berlin:20240525T140000
DTEND;TZID=Europe/Berlin:20240525T233000
DTSTAMP:20260421T235234
CREATED:20231017T192319Z
LAST-MODIFIED:20231017T192319Z
UID:6531-1716645600-1716679800@www.eggerode.de
SUMMARY:Sommerfest Schützenverein Heven
DESCRIPTION:
URL:https://www.eggerode.de/event/sommerfest-schuetzenverein-heven/
LOCATION:Wigger – Kortüm
CATEGORIES:Veranstaltungen
END:VEVENT
BEGIN:VEVENT
DTSTART;TZID=Europe/Berlin:20240525T200000
DTEND;TZID=Europe/Berlin:20240525T220000
DTSTAMP:20260421T235234
CREATED:20231017T091420Z
LAST-MODIFIED:20231018T094104Z
UID:6409-1716667200-1716674400@www.eggerode.de
SUMMARY:Tog wegbringen und Rosen machen Schützenbruderschaft Eggerode
DESCRIPTION:
URL:https://www.eggerode.de/event/tog-wegbringen-und-rosen-machen-2/
CATEGORIES:Veranstaltungen
END:VEVENT
BEGIN:VEVENT
DTSTART;VALUE=DATE:20240526
DTEND;VALUE=DATE:20240527
DTSTAMP:20260421T235234
CREATED:20231017T191754Z
LAST-MODIFIED:20231017T192108Z
UID:6527-1716681600-1716767999@www.eggerode.de
SUMMARY:Kinderschützenfest Schützenverein Heven
DESCRIPTION:
URL:https://www.eggerode.de/event/kinderschuetzenfest-schuetzenverein-heven/
LOCATION:Wigger – Kortüm
CATEGORIES:Veranstaltungen
END:VEVENT
BEGIN:VEVENT
DTSTART;TZID=Europe/Berlin:20240528T140000
DTEND;TZID=Europe/Berlin:20240528T180000
DTSTAMP:20260421T235234
CREATED:20231017T093152Z
LAST-MODIFIED:20231017T093152Z
UID:6449-1716904800-1716919200@www.eggerode.de
SUMMARY:Fahrradtour Heimatverein
DESCRIPTION:
URL:https://www.eggerode.de/event/fahrradtour-heimatverein-23/
LOCATION:Heimatstube Eggerode
CATEGORIES:Veranstaltungen
END:VEVENT
BEGIN:VEVENT
DTSTART;VALUE=DATE:20240530
DTEND;VALUE=DATE:20240601
DTSTAMP:20260421T235234
CREATED:20231017T090916Z
LAST-MODIFIED:20231017T090916Z
UID:6401-1717027200-1717199999@www.eggerode.de
SUMMARY:Schützenfest Eggerode
DESCRIPTION:
URL:https://www.eggerode.de/event/schuetzenfest-eggerode-2/
CATEGORIES:Veranstaltungen
END:VEVENT
END:VCALENDAR