BEGIN:VCALENDAR
VERSION:2.0
PRODID:-// - ECPv6.15.20//NONSGML v1.0//EN
CALSCALE:GREGORIAN
METHOD:PUBLISH
X-ORIGINAL-URL:https://www.eggerode.de
X-WR-CALDESC:Veranstaltungen für 
REFRESH-INTERVAL;VALUE=DURATION:PT1H
X-Robots-Tag:noindex
X-PUBLISHED-TTL:PT1H
BEGIN:VTIMEZONE
TZID:Europe/Berlin
BEGIN:DAYLIGHT
TZOFFSETFROM:+0100
TZOFFSETTO:+0200
TZNAME:CEST
DTSTART:20230326T010000
END:DAYLIGHT
BEGIN:STANDARD
TZOFFSETFROM:+0200
TZOFFSETTO:+0100
TZNAME:CET
DTSTART:20231029T010000
END:STANDARD
BEGIN:DAYLIGHT
TZOFFSETFROM:+0100
TZOFFSETTO:+0200
TZNAME:CEST
DTSTART:20240331T010000
END:DAYLIGHT
BEGIN:STANDARD
TZOFFSETFROM:+0200
TZOFFSETTO:+0100
TZNAME:CET
DTSTART:20241027T010000
END:STANDARD
BEGIN:DAYLIGHT
TZOFFSETFROM:+0100
TZOFFSETTO:+0200
TZNAME:CEST
DTSTART:20250330T010000
END:DAYLIGHT
BEGIN:STANDARD
TZOFFSETFROM:+0200
TZOFFSETTO:+0100
TZNAME:CET
DTSTART:20251026T010000
END:STANDARD
END:VTIMEZONE
BEGIN:VEVENT
DTSTART;TZID=Europe/Berlin:20240301T180000
DTEND;TZID=Europe/Berlin:20240301T190000
DTSTAMP:20260422T024917
CREATED:20231018T085331Z
LAST-MODIFIED:20231018T085455Z
UID:6575-1709316000-1709319600@www.eggerode.de
SUMMARY:Weltgebetstag
DESCRIPTION:
URL:https://www.eggerode.de/event/weltgebetstag-3/
LOCATION:Johanneskirche Schöppingen
CATEGORIES:Kirchliche Veranstaltung
END:VEVENT
BEGIN:VEVENT
DTSTART;TZID=Europe/Berlin:20240303T110000
DTEND;TZID=Europe/Berlin:20240303T130000
DTSTAMP:20260422T024917
CREATED:20231017T180433Z
LAST-MODIFIED:20231017T180433Z
UID:6473-1709463600-1709470800@www.eggerode.de
SUMMARY:offener Frühschoppen
DESCRIPTION:
URL:https://www.eggerode.de/event/offener-fruehschoppen-3/
LOCATION:Heimatstube Eggerode
CATEGORIES:Veranstaltungen
END:VEVENT
BEGIN:VEVENT
DTSTART;TZID=Europe/Berlin:20240304T140000
DTEND;TZID=Europe/Berlin:20240304T170000
DTSTAMP:20260422T024917
CREATED:20231017T074939Z
LAST-MODIFIED:20231017T080408Z
UID:6325-1709560800-1709571600@www.eggerode.de
SUMMARY:Kreuzweg anschl. Seniorennachmittag
DESCRIPTION:
URL:https://www.eggerode.de/event/kreuzweg-anschl-seniorennachmittag-2/
LOCATION:Kirche St. Marien
CATEGORIES:Veranstaltungen
END:VEVENT
BEGIN:VEVENT
DTSTART;TZID=Europe/Berlin:20240306T143000
DTEND;TZID=Europe/Berlin:20240306T180000
DTSTAMP:20260422T024917
CREATED:20231024T091926Z
LAST-MODIFIED:20231025T092053Z
UID:6611-1709735400-1709748000@www.eggerode.de
SUMMARY:Klönnachmittag - Heimatverein
DESCRIPTION:
URL:https://www.eggerode.de/event/kloennachmittag-der-radgruppe-heimatverein-5/
CATEGORIES:Veranstaltungen
END:VEVENT
BEGIN:VEVENT
DTSTART;TZID=Europe/Berlin:20240307T193000
DTEND;TZID=Europe/Berlin:20240307T223000
DTSTAMP:20260422T024917
CREATED:20231017T093624Z
LAST-MODIFIED:20231017T093624Z
UID:6455-1709839800-1709850600@www.eggerode.de
SUMMARY:Jahreshauptversammlung Heimatverein
DESCRIPTION:
URL:https://www.eggerode.de/event/jahreshauptversammlung-heimatverein/
LOCATION:Heimatstube Eggerode
CATEGORIES:Versammlung
END:VEVENT
BEGIN:VEVENT
DTSTART;VALUE=DATE:20240316
DTEND;VALUE=DATE:20240317
DTSTAMP:20260422T024917
CREATED:20231018T082450Z
LAST-MODIFIED:20231018T082450Z
UID:6561-1710547200-1710633599@www.eggerode.de
SUMMARY:Kommunionkinderwallfahrt für die ganze Region
DESCRIPTION:
URL:https://www.eggerode.de/event/kommunionkinderwallfahrt-fuer-die-ganze-region/
CATEGORIES:Kirchliche Veranstaltung
END:VEVENT
BEGIN:VEVENT
DTSTART;TZID=Europe/Berlin:20240317T110000
DTEND;TZID=Europe/Berlin:20240317T140000
DTSTAMP:20260422T024917
CREATED:20231017T191546Z
LAST-MODIFIED:20231017T191546Z
UID:6523-1710673200-1710684000@www.eggerode.de
SUMMARY:Fastenessen
DESCRIPTION:
URL:https://www.eggerode.de/event/fastenessen/
LOCATION:Pfarrheim Eggerode
CATEGORIES:Veranstaltungen
END:VEVENT
BEGIN:VEVENT
DTSTART;TZID=Europe/Berlin:20240318T170000
DTEND;TZID=Europe/Berlin:20240318T190000
DTSTAMP:20260422T024917
CREATED:20231017T090625Z
LAST-MODIFIED:20231017T090625Z
UID:6395-1710781200-1710788400@www.eggerode.de
SUMMARY:Kreuzweg reinigen
DESCRIPTION:
URL:https://www.eggerode.de/event/kreuzweg-reinigen-12/
LOCATION:Kreuzweg Eggerode
CATEGORIES:Veranstaltungen
END:VEVENT
BEGIN:VEVENT
DTSTART;TZID=Europe/Berlin:20240320T143000
DTEND;TZID=Europe/Berlin:20240320T180000
DTSTAMP:20260422T024917
CREATED:20231024T091955Z
LAST-MODIFIED:20231025T092115Z
UID:6613-1710945000-1710957600@www.eggerode.de
SUMMARY:Klönnachmittag - Heimatverein
DESCRIPTION:
URL:https://www.eggerode.de/event/kloennachmittag-der-radgruppe-heimatverein-6/
CATEGORIES:Veranstaltungen
END:VEVENT
BEGIN:VEVENT
DTSTART;TZID=Europe/Berlin:20240320T180000
DTEND;TZID=Europe/Berlin:20240320T213000
DTSTAMP:20260422T024917
CREATED:20231017T181723Z
LAST-MODIFIED:20231017T181723Z
UID:6505-1710957600-1710970200@www.eggerode.de
SUMMARY:Wi küert Platt
DESCRIPTION:
URL:https://www.eggerode.de/event/wi-kueert-platt-5/
LOCATION:Heimatstube Eggerode
CATEGORIES:Veranstaltungen
END:VEVENT
BEGIN:VEVENT
DTSTART;TZID=Europe/Berlin:20240321T143000
DTEND;TZID=Europe/Berlin:20240321T153000
DTSTAMP:20260422T024917
CREATED:20231018T092424Z
LAST-MODIFIED:20231018T092424Z
UID:6595-1711031400-1711035000@www.eggerode.de
SUMMARY:Kreuzweg beten Eggeroder Frauen
DESCRIPTION:
URL:https://www.eggerode.de/event/kreuzweg-beten-eggeroder-frauen-2/
LOCATION:Kreuzweg Eggerode
CATEGORIES:Kirchliche Veranstaltung
END:VEVENT
BEGIN:VEVENT
DTSTART;TZID=Europe/Berlin:20240322T200000
DTEND;TZID=Europe/Berlin:20240322T230000
DTSTAMP:20260422T024917
CREATED:20231017T191047Z
LAST-MODIFIED:20231017T191047Z
UID:6513-1711137600-1711148400@www.eggerode.de
SUMMARY:Mitgliederversammlung SVE
DESCRIPTION:
URL:https://www.eggerode.de/event/mitgliederversammlung-sve/
LOCATION:Hotel Winter
CATEGORIES:Versammlung
END:VEVENT
BEGIN:VEVENT
DTSTART;VALUE=DATE:20240323
DTEND;VALUE=DATE:20240324
DTSTAMP:20260422T024917
CREATED:20231017T091323Z
LAST-MODIFIED:20231017T091323Z
UID:6407-1711152000-1711238399@www.eggerode.de
SUMMARY:Tagestour Duisburger Hafen und Schnapsbrennerei
DESCRIPTION:
URL:https://www.eggerode.de/event/tagestour-duisburger-hafen-und-schnapsbrennerei/
CATEGORIES:Veranstaltungen
END:VEVENT
BEGIN:VEVENT
DTSTART;TZID=Europe/Berlin:20240324T143000
DTEND;TZID=Europe/Berlin:20240324T170000
DTSTAMP:20260422T024917
CREATED:20231017T092132Z
LAST-MODIFIED:20231024T092047Z
UID:6423-1711290600-1711299600@www.eggerode.de
SUMMARY:Dankeschön - Nachmittag Heimatverein
DESCRIPTION:
URL:https://www.eggerode.de/event/dankeschoen-nachmittag-heimatverein/
LOCATION:Heimatstube Eggerode
CATEGORIES:Veranstaltungen
END:VEVENT
BEGIN:VEVENT
DTSTART;TZID=Europe/Berlin:20240331T193000
DTEND;TZID=Europe/Berlin:20240331T213000
DTSTAMP:20260422T024917
CREATED:20231018T085140Z
LAST-MODIFIED:20231018T085140Z
UID:6573-1711913400-1711920600@www.eggerode.de
SUMMARY:Osterfeuer
DESCRIPTION:
URL:https://www.eggerode.de/event/osterfeuer-3/
LOCATION:Kirche St. Marien
CATEGORIES:Veranstaltungen
END:VEVENT
END:VCALENDAR