BEGIN:VCALENDAR
VERSION:2.0
PRODID:-// - ECPv6.15.20//NONSGML v1.0//EN
CALSCALE:GREGORIAN
METHOD:PUBLISH
X-ORIGINAL-URL:https://www.eggerode.de
X-WR-CALDESC:Veranstaltungen für 
REFRESH-INTERVAL;VALUE=DURATION:PT1H
X-Robots-Tag:noindex
X-PUBLISHED-TTL:PT1H
BEGIN:VTIMEZONE
TZID:Europe/Berlin
BEGIN:DAYLIGHT
TZOFFSETFROM:+0100
TZOFFSETTO:+0200
TZNAME:CEST
DTSTART:20230326T010000
END:DAYLIGHT
BEGIN:STANDARD
TZOFFSETFROM:+0200
TZOFFSETTO:+0100
TZNAME:CET
DTSTART:20231029T010000
END:STANDARD
BEGIN:DAYLIGHT
TZOFFSETFROM:+0100
TZOFFSETTO:+0200
TZNAME:CEST
DTSTART:20240331T010000
END:DAYLIGHT
BEGIN:STANDARD
TZOFFSETFROM:+0200
TZOFFSETTO:+0100
TZNAME:CET
DTSTART:20241027T010000
END:STANDARD
BEGIN:DAYLIGHT
TZOFFSETFROM:+0100
TZOFFSETTO:+0200
TZNAME:CEST
DTSTART:20250330T010000
END:DAYLIGHT
BEGIN:STANDARD
TZOFFSETFROM:+0200
TZOFFSETTO:+0100
TZNAME:CET
DTSTART:20251026T010000
END:STANDARD
END:VTIMEZONE
BEGIN:VEVENT
DTSTART;TZID=Europe/Berlin:20240203T100000
DTEND;TZID=Europe/Berlin:20240203T170000
DTSTAMP:20260424T114152
CREATED:20231015T090553Z
LAST-MODIFIED:20231015T094957Z
UID:6292-1706954400-1706979600@www.eggerode.de
SUMMARY:1. Arbeitstag ASV Eggerode
DESCRIPTION:
URL:https://www.eggerode.de/event/1-arbeitstag-4/
LOCATION:Teichanlage Kappelhoff
CATEGORIES:Veranstaltungen
END:VEVENT
BEGIN:VEVENT
DTSTART;TZID=Europe/Berlin:20240204T110000
DTEND;TZID=Europe/Berlin:20240204T130000
DTSTAMP:20260424T114152
CREATED:20231017T180602Z
LAST-MODIFIED:20231017T180602Z
UID:6477-1707044400-1707051600@www.eggerode.de
SUMMARY:offener Frühschoppen
DESCRIPTION:
URL:https://www.eggerode.de/event/offener-fruehschoppen-5/
LOCATION:Heimatstube Eggerode
CATEGORIES:Veranstaltungen
END:VEVENT
BEGIN:VEVENT
DTSTART;TZID=Europe/Berlin:20240205T143000
DTEND;TZID=Europe/Berlin:20240205T170000
DTSTAMP:20260424T114152
CREATED:20231017T075754Z
LAST-MODIFIED:20231017T080421Z
UID:6341-1707143400-1707152400@www.eggerode.de
SUMMARY:Seniorennachmittag
DESCRIPTION:
URL:https://www.eggerode.de/event/seniorennachmittag-27/
LOCATION:Pfarrheim Eggerode
CATEGORIES:Veranstaltungen
END:VEVENT
BEGIN:VEVENT
DTSTART;TZID=Europe/Berlin:20240207T143000
DTEND;TZID=Europe/Berlin:20240207T180000
DTSTAMP:20260424T114152
CREATED:20231024T091759Z
LAST-MODIFIED:20231025T091954Z
UID:6607-1707316200-1707328800@www.eggerode.de
SUMMARY:Klönnachmittag - Heimatverein
DESCRIPTION:
URL:https://www.eggerode.de/event/kloennachmittag-der-radgruppe-heimatverein-3/
CATEGORIES:Veranstaltungen
END:VEVENT
BEGIN:VEVENT
DTSTART;TZID=Europe/Berlin:20240208T140000
DTEND;TZID=Europe/Berlin:20240208T213000
DTSTAMP:20260424T114152
CREATED:20231017T090328Z
LAST-MODIFIED:20231017T090328Z
UID:6389-1707400800-1707427800@www.eggerode.de
SUMMARY:Büttnachmittag
DESCRIPTION:
URL:https://www.eggerode.de/event/buettnachmittag-4/
LOCATION:Hotel Winter
CATEGORIES:Veranstaltungen
END:VEVENT
BEGIN:VEVENT
DTSTART;TZID=Europe/Berlin:20240209T191100
DTEND;TZID=Europe/Berlin:20240209T233000
DTSTAMP:20260424T114152
CREATED:20231017T091628Z
LAST-MODIFIED:20231017T091628Z
UID:6413-1707505860-1707521400@www.eggerode.de
SUMMARY:Winterfest
DESCRIPTION:
URL:https://www.eggerode.de/event/winterfest-2/
LOCATION:Hotel Winter
CATEGORIES:Veranstaltungen
END:VEVENT
BEGIN:VEVENT
DTSTART;TZID=Europe/Berlin:20240217T190000
DTEND;TZID=Europe/Berlin:20240217T223000
DTSTAMP:20260424T114152
CREATED:20231017T090430Z
LAST-MODIFIED:20231017T090430Z
UID:6391-1708196400-1708209000@www.eggerode.de
SUMMARY:Dankeschön - Abend Karneval
DESCRIPTION:
URL:https://www.eggerode.de/event/dankeschoen-abend-karneval/
LOCATION:Pfarrheim Eggerode
CATEGORIES:Veranstaltungen
END:VEVENT
BEGIN:VEVENT
DTSTART;TZID=Europe/Berlin:20240218T100000
DTEND;TZID=Europe/Berlin:20240218T113000
DTSTAMP:20260424T114152
CREATED:20231017T193502Z
LAST-MODIFIED:20231017T193502Z
UID:6551-1708250400-1708255800@www.eggerode.de
SUMMARY:Firmfeier St. Brictius
DESCRIPTION:
URL:https://www.eggerode.de/event/firmfeier-st-brictius/
LOCATION:Kirche St. Brictius
CATEGORIES:Kirchliche Veranstaltung
END:VEVENT
BEGIN:VEVENT
DTSTART;TZID=Europe/Berlin:20240218T150000
DTEND;TZID=Europe/Berlin:20240218T170000
DTSTAMP:20260424T114152
CREATED:20231017T192913Z
LAST-MODIFIED:20231017T192913Z
UID:6543-1708268400-1708275600@www.eggerode.de
SUMMARY:Anbetungsnachmittag Eggerode
DESCRIPTION:
URL:https://www.eggerode.de/event/anbetungsnachmittag-eggerode/
LOCATION:Kirche St. Marien
CATEGORIES:Kirchliche Veranstaltung
END:VEVENT
BEGIN:VEVENT
DTSTART;TZID=Europe/Berlin:20240221T143000
DTEND;TZID=Europe/Berlin:20240221T180000
DTSTAMP:20260424T114152
CREATED:20231024T091831Z
LAST-MODIFIED:20231025T092023Z
UID:6609-1708525800-1708538400@www.eggerode.de
SUMMARY:Klönnachmittag - Heimatverein
DESCRIPTION:
URL:https://www.eggerode.de/event/kloennachmittag-der-radgruppe-heimatverein-4/
CATEGORIES:Veranstaltungen
END:VEVENT
BEGIN:VEVENT
DTSTART;TZID=Europe/Berlin:20240221T180000
DTEND;TZID=Europe/Berlin:20240221T213000
DTSTAMP:20260424T114152
CREATED:20231017T181848Z
LAST-MODIFIED:20231017T181848Z
UID:6509-1708538400-1708551000@www.eggerode.de
SUMMARY:Wi küert Platt
DESCRIPTION:
URL:https://www.eggerode.de/event/wi-kueert-platt-7/
LOCATION:Heimatstube Eggerode
CATEGORIES:Veranstaltungen
END:VEVENT
BEGIN:VEVENT
DTSTART;VALUE=DATE:20240223
DTEND;VALUE=DATE:20240226
DTSTAMP:20260424T114152
CREATED:20231017T193355Z
LAST-MODIFIED:20231017T193355Z
UID:6549-1708646400-1708905599@www.eggerode.de
SUMMARY:Familienwochenende für Kommunionfamilien
DESCRIPTION:
URL:https://www.eggerode.de/event/familienwochenende-fuer-kommunionfamilien/
CATEGORIES:Kirchliche Veranstaltung
END:VEVENT
BEGIN:VEVENT
DTSTART;TZID=Europe/Berlin:20240224T190000
DTEND;TZID=Europe/Berlin:20240224T223000
DTSTAMP:20260424T114152
CREATED:20231017T090824Z
LAST-MODIFIED:20231017T090824Z
UID:6399-1708801200-1708813800@www.eggerode.de
SUMMARY:Schießabend aller Schöppinger Vereine
DESCRIPTION:
URL:https://www.eggerode.de/event/schiessabend-aller-schoeppinger-vereine-2/
LOCATION:Kulturhalle Schöppingen
CATEGORIES:Veranstaltungen
END:VEVENT
END:VCALENDAR