BEGIN:VCALENDAR
VERSION:2.0
PRODID:-// - ECPv6.15.20//NONSGML v1.0//EN
CALSCALE:GREGORIAN
METHOD:PUBLISH
X-ORIGINAL-URL:https://www.eggerode.de
X-WR-CALDESC:Veranstaltungen für 
REFRESH-INTERVAL;VALUE=DURATION:PT1H
X-Robots-Tag:noindex
X-PUBLISHED-TTL:PT1H
BEGIN:VTIMEZONE
TZID:Europe/Berlin
BEGIN:DAYLIGHT
TZOFFSETFROM:+0100
TZOFFSETTO:+0200
TZNAME:CEST
DTSTART:20220327T010000
END:DAYLIGHT
BEGIN:STANDARD
TZOFFSETFROM:+0200
TZOFFSETTO:+0100
TZNAME:CET
DTSTART:20221030T010000
END:STANDARD
BEGIN:DAYLIGHT
TZOFFSETFROM:+0100
TZOFFSETTO:+0200
TZNAME:CEST
DTSTART:20230326T010000
END:DAYLIGHT
BEGIN:STANDARD
TZOFFSETFROM:+0200
TZOFFSETTO:+0100
TZNAME:CET
DTSTART:20231029T010000
END:STANDARD
BEGIN:DAYLIGHT
TZOFFSETFROM:+0100
TZOFFSETTO:+0200
TZNAME:CEST
DTSTART:20240331T010000
END:DAYLIGHT
BEGIN:STANDARD
TZOFFSETFROM:+0200
TZOFFSETTO:+0100
TZNAME:CET
DTSTART:20241027T010000
END:STANDARD
END:VTIMEZONE
BEGIN:VEVENT
DTSTART;TZID=Europe/Berlin:20231201T080000
DTEND;TZID=Europe/Berlin:20231201T080000
DTSTAMP:20260424T144118
CREATED:20221017T161855Z
LAST-MODIFIED:20221017T161855Z
UID:5391-1701417600-1701417600@www.eggerode.de
SUMMARY:Messe mit anschl. Adventsfeier
DESCRIPTION:
URL:https://www.eggerode.de/event/messe-mit-anschl-adventsfeier/
LOCATION:Pfarrheim Eggerode
CATEGORIES:Kirchliche Veranstaltung
END:VEVENT
BEGIN:VEVENT
DTSTART;VALUE=DATE:20231203
DTEND;VALUE=DATE:20231204
DTSTAMP:20260424T144118
CREATED:20221017T154533Z
LAST-MODIFIED:20221017T154533Z
UID:5333-1701561600-1701647999@www.eggerode.de
SUMMARY:Nikolausmarkt und Nikolausempfang
DESCRIPTION:
URL:https://www.eggerode.de/event/nikolausmarkt-und-nikolausempfang/
LOCATION:Kirchplatz Eggerode
CATEGORIES:Veranstaltungen
END:VEVENT
BEGIN:VEVENT
DTSTART;VALUE=DATE:20231203
DTEND;VALUE=DATE:20231204
DTSTAMP:20260424T144118
CREATED:20221017T173402Z
LAST-MODIFIED:20221017T173402Z
UID:5463-1701561600-1701647999@www.eggerode.de
SUMMARY:Krippenausstellung
DESCRIPTION:
URL:https://www.eggerode.de/event/krippenausstellung-3/
LOCATION:Heimatstube Eggerode
CATEGORIES:Veranstaltungen
END:VEVENT
BEGIN:VEVENT
DTSTART;TZID=Europe/Berlin:20231203T100000
DTEND;TZID=Europe/Berlin:20231203T110000
DTSTAMP:20260424T144118
CREATED:20221017T152939Z
LAST-MODIFIED:20221017T152939Z
UID:5310-1701597600-1701601200@www.eggerode.de
SUMMARY:Vorstellung der Kommunionkinder
DESCRIPTION:
URL:https://www.eggerode.de/event/vorstellung-der-kommunionkinder/
LOCATION:Kirche St. Marien
CATEGORIES:Kirchliche Veranstaltung
END:VEVENT
BEGIN:VEVENT
DTSTART;TZID=Europe/Berlin:20231204T143000
DTEND;TZID=Europe/Berlin:20231204T143000
DTSTAMP:20260424T144118
CREATED:20221017T144535Z
LAST-MODIFIED:20221017T144535Z
UID:5269-1701700200-1701700200@www.eggerode.de
SUMMARY:Weihnachtsfeier Seniorengemeinschaft
DESCRIPTION:
URL:https://www.eggerode.de/event/weihnachtsfeier-seniorengemeinschaft/
LOCATION:Pfarrheim Eggerode
CATEGORIES:Seniorennachmittag
END:VEVENT
BEGIN:VEVENT
DTSTART;VALUE=DATE:20231205
DTEND;VALUE=DATE:20231206
DTSTAMP:20260424T144118
CREATED:20221017T154352Z
LAST-MODIFIED:20221017T154352Z
UID:5331-1701734400-1701820799@www.eggerode.de
SUMMARY:Hausbesuche des Nikolaus
DESCRIPTION:
URL:https://www.eggerode.de/event/hausbesuche-des-nikolaus-2/
CATEGORIES:Veranstaltungen
END:VEVENT
BEGIN:VEVENT
DTSTART;TZID=Europe/Berlin:20231210T170000
DTEND;TZID=Europe/Berlin:20231210T170000
DTSTAMP:20260424T144118
CREATED:20221017T150725Z
LAST-MODIFIED:20221017T150725Z
UID:5292-1702227600-1702227600@www.eggerode.de
SUMMARY:kirchenmusikalische Andacht Knabenchor Kevelaer
DESCRIPTION:
URL:https://www.eggerode.de/event/kirchenmusikalische-andacht-knabenchor-kevelaer/
LOCATION:Kirche St. Marien
CATEGORIES:Kirchliche Veranstaltung
END:VEVENT
BEGIN:VEVENT
DTSTART;TZID=Europe/Berlin:20231212T143000
DTEND;TZID=Europe/Berlin:20231212T143000
DTSTAMP:20260424T144118
CREATED:20221017T163903Z
LAST-MODIFIED:20221017T164755Z
UID:5435-1702391400-1702391400@www.eggerode.de
SUMMARY:Klönnachmittag Heimatverein
DESCRIPTION:
URL:https://www.eggerode.de/event/kloennachmittag-heimtverein-5/
LOCATION:Heimatstube Eggerode
CATEGORIES:Veranstaltungen
END:VEVENT
BEGIN:VEVENT
DTSTART;TZID=Europe/Berlin:20231224T170000
DTEND;TZID=Europe/Berlin:20231224T183000
DTSTAMP:20260424T144118
CREATED:20221017T145724Z
LAST-MODIFIED:20221017T145724Z
UID:5281-1703437200-1703442600@www.eggerode.de
SUMMARY:Familien - Christmesse
DESCRIPTION:
URL:https://www.eggerode.de/event/familien-christmesse/
LOCATION:Kirche St. Marien
CATEGORIES:Kirchliche Veranstaltung
END:VEVENT
BEGIN:VEVENT
DTSTART;TZID=Europe/Berlin:20231229T190000
DTEND;TZID=Europe/Berlin:20231229T210000
DTSTAMP:20260424T144118
CREATED:20221017T142309Z
LAST-MODIFIED:20221017T142340Z
UID:5235-1703876400-1703883600@www.eggerode.de
SUMMARY:Kartenausgabe für 2024
DESCRIPTION:
URL:https://www.eggerode.de/event/kartenausgabe-fuer-2024/
LOCATION:Heimatstube Eggerode
CATEGORIES:Veranstaltungen
END:VEVENT
END:VCALENDAR