BEGIN:VCALENDAR
VERSION:2.0
PRODID:-// - ECPv6.15.20//NONSGML v1.0//EN
CALSCALE:GREGORIAN
METHOD:PUBLISH
X-ORIGINAL-URL:https://www.eggerode.de
X-WR-CALDESC:Veranstaltungen für 
REFRESH-INTERVAL;VALUE=DURATION:PT1H
X-Robots-Tag:noindex
X-PUBLISHED-TTL:PT1H
BEGIN:VTIMEZONE
TZID:Europe/Berlin
BEGIN:DAYLIGHT
TZOFFSETFROM:+0100
TZOFFSETTO:+0200
TZNAME:CEST
DTSTART:20220327T010000
END:DAYLIGHT
BEGIN:STANDARD
TZOFFSETFROM:+0200
TZOFFSETTO:+0100
TZNAME:CET
DTSTART:20221030T010000
END:STANDARD
BEGIN:DAYLIGHT
TZOFFSETFROM:+0100
TZOFFSETTO:+0200
TZNAME:CEST
DTSTART:20230326T010000
END:DAYLIGHT
BEGIN:STANDARD
TZOFFSETFROM:+0200
TZOFFSETTO:+0100
TZNAME:CET
DTSTART:20231029T010000
END:STANDARD
BEGIN:DAYLIGHT
TZOFFSETFROM:+0100
TZOFFSETTO:+0200
TZNAME:CEST
DTSTART:20240331T010000
END:DAYLIGHT
BEGIN:STANDARD
TZOFFSETFROM:+0200
TZOFFSETTO:+0100
TZNAME:CET
DTSTART:20241027T010000
END:STANDARD
END:VTIMEZONE
BEGIN:VEVENT
DTSTART;TZID=Europe/Berlin:20231101T100000
DTEND;TZID=Europe/Berlin:20231101T113000
DTSTAMP:20260424T162155
CREATED:20221017T144959Z
LAST-MODIFIED:20221017T144959Z
UID:5273-1698832800-1698838200@www.eggerode.de
SUMMARY:Abschluß der Wallfahrtszeit mit Festmesse
DESCRIPTION:
URL:https://www.eggerode.de/event/abschluss-der-wallfahrtszeit-mit-festmesse/
LOCATION:Kirche St. Marien
CATEGORIES:Kirchliche Veranstaltung
END:VEVENT
BEGIN:VEVENT
DTSTART;TZID=Europe/Berlin:20231103T080000
DTEND;TZID=Europe/Berlin:20231103T080000
DTSTAMP:20260424T162155
CREATED:20230310T082936Z
LAST-MODIFIED:20230310T082943Z
UID:5375-1698998400-1698998400@www.eggerode.de
SUMMARY:Frauenmesse
DESCRIPTION:
URL:https://www.eggerode.de/event/frauenmesse-21/
LOCATION:Kirche St. Marien
CATEGORIES:Kirchliche Veranstaltung
END:VEVENT
BEGIN:VEVENT
DTSTART;TZID=Europe/Berlin:20231103T193000
DTEND;TZID=Europe/Berlin:20231103T193000
DTSTAMP:20260424T162155
CREATED:20221017T175322Z
LAST-MODIFIED:20231017T080454Z
UID:5489-1699039800-1699039800@www.eggerode.de
SUMMARY:Generalversammlung Schützenverein Heven
DESCRIPTION:
URL:https://www.eggerode.de/event/generalversammlung-schuetzenverein-heven/
LOCATION:Gaststätte Küper
CATEGORIES:Veranstaltungen
END:VEVENT
BEGIN:VEVENT
DTSTART;TZID=Europe/Berlin:20231103T200000
DTEND;TZID=Europe/Berlin:20231103T200000
DTSTAMP:20260424T162155
CREATED:20221017T155203Z
LAST-MODIFIED:20221017T155203Z
UID:5343-1699041600-1699041600@www.eggerode.de
SUMMARY:Generalversammlung Schützenbruderschaft Eggerode
DESCRIPTION:
URL:https://www.eggerode.de/event/generalversammlung-schuetzenbruderschaft-eggerode/
LOCATION:Hotel Winter
CATEGORIES:Veranstaltungen
END:VEVENT
BEGIN:VEVENT
DTSTART;TZID=Europe/Berlin:20231105T093000
DTEND;TZID=Europe/Berlin:20231105T093000
DTSTAMP:20260424T162155
CREATED:20221017T160434Z
LAST-MODIFIED:20221017T160434Z
UID:5365-1699176600-1699176600@www.eggerode.de
SUMMARY:Frauenfrühstück von der kfd
DESCRIPTION:
URL:https://www.eggerode.de/event/frauenfruehstueck-von-der-kfd/
LOCATION:Pfarrheim Eggerode
CATEGORIES:Kirchliche Veranstaltung
END:VEVENT
BEGIN:VEVENT
DTSTART;TZID=Europe/Berlin:20231106T140000
DTEND;TZID=Europe/Berlin:20231106T140000
DTSTAMP:20260424T162155
CREATED:20221017T143544Z
LAST-MODIFIED:20221017T143544Z
UID:5251-1699279200-1699279200@www.eggerode.de
SUMMARY:Messe für die Verstorbenen anschl. Seniorennachmittag
DESCRIPTION:
URL:https://www.eggerode.de/event/messe-fuer-die-verstorbenen-anschl-seniorennachmittag/
LOCATION:Pfarrheim Eggerode
CATEGORIES:Seniorennachmittag
END:VEVENT
BEGIN:VEVENT
DTSTART;TZID=Europe/Berlin:20231111T180000
DTEND;TZID=Europe/Berlin:20231111T180000
DTSTAMP:20260424T162155
CREATED:20221017T181125Z
LAST-MODIFIED:20221017T181125Z
UID:5524-1699725600-1699725600@www.eggerode.de
SUMMARY:Martinsumzug
DESCRIPTION:
URL:https://www.eggerode.de/event/martinsumzug-3/
LOCATION:Schulhof Grundschule Eggerode
CATEGORIES:Kirchliche Veranstaltung
END:VEVENT
BEGIN:VEVENT
DTSTART;TZID=Europe/Berlin:20231114T143000
DTEND;TZID=Europe/Berlin:20231114T143000
DTSTAMP:20260424T162155
CREATED:20221017T163943Z
LAST-MODIFIED:20221017T164809Z
UID:5437-1699972200-1699972200@www.eggerode.de
SUMMARY:Klönnachmittag Heimatverein
DESCRIPTION:
URL:https://www.eggerode.de/event/kloennachmittag-heimtverein-6/
LOCATION:Heimatstube Eggerode
CATEGORIES:Veranstaltungen
END:VEVENT
BEGIN:VEVENT
DTSTART;VALUE=DATE:20231118
DTEND;VALUE=DATE:20231119
DTSTAMP:20260424T162155
CREATED:20221017T142935Z
LAST-MODIFIED:20221017T142935Z
UID:5244-1700265600-1700351999@www.eggerode.de
SUMMARY:Raubfischangeln
DESCRIPTION:
URL:https://www.eggerode.de/event/raubfischangeln/
CATEGORIES:Veranstaltungen
END:VEVENT
BEGIN:VEVENT
DTSTART;TZID=Europe/Berlin:20231124T193000
DTEND;TZID=Europe/Berlin:20231124T193000
DTSTAMP:20260424T162155
CREATED:20221017T174631Z
LAST-MODIFIED:20221017T174631Z
UID:5485-1700854200-1700854200@www.eggerode.de
SUMMARY:Weihnachtsfeier SV Eggerode
DESCRIPTION:
URL:https://www.eggerode.de/event/weihnachtsfeier-sv-eggerode-2/
LOCATION:Hotel Winter
CATEGORIES:Veranstaltungen
END:VEVENT
BEGIN:VEVENT
DTSTART;TZID=Europe/Berlin:20231125T170000
DTEND;TZID=Europe/Berlin:20231125T170000
DTSTAMP:20260424T162155
CREATED:20221017T153801Z
LAST-MODIFIED:20231024T091303Z
UID:5322-1700931600-1700931600@www.eggerode.de
SUMMARY:Cäcilienfest
DESCRIPTION:
URL:https://www.eggerode.de/event/caecilienfest-3/
LOCATION:Pfarrheim Eggerode
CATEGORIES:Kirchliche Veranstaltung
END:VEVENT
BEGIN:VEVENT
DTSTART;TZID=Europe/Berlin:20231128T143000
DTEND;TZID=Europe/Berlin:20231128T143000
DTSTAMP:20260424T162155
CREATED:20221017T164953Z
LAST-MODIFIED:20221017T164953Z
UID:5447-1701181800-1701181800@www.eggerode.de
SUMMARY:Klönnachmittag Heimatverein
DESCRIPTION:
URL:https://www.eggerode.de/event/kloennachmittag-heimatverein/
LOCATION:Heimatstube Eggerode
CATEGORIES:Veranstaltungen
END:VEVENT
END:VCALENDAR