BEGIN:VCALENDAR
VERSION:2.0
PRODID:-// - ECPv6.15.20//NONSGML v1.0//EN
CALSCALE:GREGORIAN
METHOD:PUBLISH
X-ORIGINAL-URL:https://www.eggerode.de
X-WR-CALDESC:Veranstaltungen für 
REFRESH-INTERVAL;VALUE=DURATION:PT1H
X-Robots-Tag:noindex
X-PUBLISHED-TTL:PT1H
BEGIN:VTIMEZONE
TZID:Europe/Berlin
BEGIN:DAYLIGHT
TZOFFSETFROM:+0100
TZOFFSETTO:+0200
TZNAME:CEST
DTSTART:20220327T010000
END:DAYLIGHT
BEGIN:STANDARD
TZOFFSETFROM:+0200
TZOFFSETTO:+0100
TZNAME:CET
DTSTART:20221030T010000
END:STANDARD
BEGIN:DAYLIGHT
TZOFFSETFROM:+0100
TZOFFSETTO:+0200
TZNAME:CEST
DTSTART:20230326T010000
END:DAYLIGHT
BEGIN:STANDARD
TZOFFSETFROM:+0200
TZOFFSETTO:+0100
TZNAME:CET
DTSTART:20231029T010000
END:STANDARD
BEGIN:DAYLIGHT
TZOFFSETFROM:+0100
TZOFFSETTO:+0200
TZNAME:CEST
DTSTART:20240331T010000
END:DAYLIGHT
BEGIN:STANDARD
TZOFFSETFROM:+0200
TZOFFSETTO:+0100
TZNAME:CET
DTSTART:20241027T010000
END:STANDARD
END:VTIMEZONE
BEGIN:VEVENT
DTSTART;TZID=Europe/Berlin:20231002T140000
DTEND;TZID=Europe/Berlin:20231002T140000
DTSTAMP:20260424T180153
CREATED:20221017T143715Z
LAST-MODIFIED:20221017T143715Z
UID:5253-1696255200-1696255200@www.eggerode.de
SUMMARY:Rosenkranzandacht anschl. Seniorennachmittag
DESCRIPTION:
URL:https://www.eggerode.de/event/rosenkranzandacht-anschl-seniorennachmittag-3/
LOCATION:Pfarrheim Eggerode
CATEGORIES:Seniorennachmittag
END:VEVENT
BEGIN:VEVENT
DTSTART;TZID=Europe/Berlin:20231006T080000
DTEND;TZID=Europe/Berlin:20231006T080000
DTSTAMP:20260424T180153
CREATED:20221017T161308Z
LAST-MODIFIED:20221017T161308Z
UID:5381-1696579200-1696579200@www.eggerode.de
SUMMARY:Frauenmesse
DESCRIPTION:
URL:https://www.eggerode.de/event/frauenmesse-19/
LOCATION:Kirche St. Marien
CATEGORIES:Kirchliche Veranstaltung
END:VEVENT
BEGIN:VEVENT
DTSTART;TZID=Europe/Berlin:20231007T133000
DTEND;TZID=Europe/Berlin:20231007T133000
DTSTAMP:20260424T180153
CREATED:20221017T141632Z
LAST-MODIFIED:20221017T141632Z
UID:5228-1696685400-1696685400@www.eggerode.de
SUMMARY:Forellenangeln
DESCRIPTION:
URL:https://www.eggerode.de/event/forellenangeln-2/
LOCATION:Teichanlage Kappelhoff
CATEGORIES:Veranstaltungen
END:VEVENT
BEGIN:VEVENT
DTSTART;TZID=Europe/Berlin:20231011T200000
DTEND;TZID=Europe/Berlin:20231011T200000
DTSTAMP:20260424T180153
CREATED:20221017T181247Z
LAST-MODIFIED:20221017T181247Z
UID:5526-1697054400-1697054400@www.eggerode.de
SUMMARY:Terminabsprache aller Eggeroder Vereine
DESCRIPTION:
URL:https://www.eggerode.de/event/terminabsprache-aller-eggeroder-vereine-3/
LOCATION:Hotel Winter
CATEGORIES:Versammlung
END:VEVENT
BEGIN:VEVENT
DTSTART;TZID=Europe/Berlin:20231014T130000
DTEND;TZID=Europe/Berlin:20231014T130000
DTSTAMP:20260424T180153
CREATED:20221017T141126Z
LAST-MODIFIED:20221017T141126Z
UID:5219-1697288400-1697288400@www.eggerode.de
SUMMARY:5. Arbeitstag
DESCRIPTION:
URL:https://www.eggerode.de/event/5-arbeitstag-4/
LOCATION:Teichanlage Schulze Sievert
CATEGORIES:Veranstaltungen
END:VEVENT
BEGIN:VEVENT
DTSTART;VALUE=DATE:20231015
DTEND;VALUE=DATE:20231016
DTSTAMP:20260424T180153
CREATED:20221017T141353Z
LAST-MODIFIED:20231015T083238Z
UID:5224-1697328000-1697414399@www.eggerode.de
SUMMARY:Abangeln
DESCRIPTION:
URL:https://www.eggerode.de/event/abangeln-2/
LOCATION:Teichanlage Kappelhoff
CATEGORIES:Veranstaltungen
END:VEVENT
BEGIN:VEVENT
DTSTART;TZID=Europe/Berlin:20231017T180000
DTEND;TZID=Europe/Berlin:20231017T203000
DTSTAMP:20260424T180153
CREATED:20231017T091758Z
LAST-MODIFIED:20231017T091758Z
UID:6415-1697565600-1697574600@www.eggerode.de
SUMMARY:Wi kuert Platt
DESCRIPTION:
URL:https://www.eggerode.de/event/wi-kuert-platt/
LOCATION:Heimatstube Eggerode
CATEGORIES:Veranstaltungen
END:VEVENT
BEGIN:VEVENT
DTSTART;TZID=Europe/Berlin:20231017T190000
DTEND;TZID=Europe/Berlin:20231017T190000
DTSTAMP:20260424T180153
CREATED:20221017T152711Z
LAST-MODIFIED:20221017T152711Z
UID:5306-1697569200-1697569200@www.eggerode.de
SUMMARY:Rosenkranzandacht aller Vereine
DESCRIPTION:
URL:https://www.eggerode.de/event/rosenkranzandacht-aller-vereine/
LOCATION:Kirche St. Marien
CATEGORIES:Kirchliche Veranstaltung
END:VEVENT
BEGIN:VEVENT
DTSTART;TZID=Europe/Berlin:20231018T080000
DTEND;TZID=Europe/Berlin:20231018T170000
DTSTAMP:20260424T180153
CREATED:20231018T090037Z
LAST-MODIFIED:20231018T090037Z
UID:6589-1697616000-1697648400@www.eggerode.de
SUMMARY:Kreuzweg beten Eggeroder Frauen
DESCRIPTION:
URL:https://www.eggerode.de/event/kreuzweg-beten-eggeroder-frauen/
LOCATION:Kreuzweg Eggerode
CATEGORIES:Kirchliche Veranstaltung
END:VEVENT
BEGIN:VEVENT
DTSTART;TZID=Europe/Berlin:20231031T183000
DTEND;TZID=Europe/Berlin:20231031T183000
DTSTAMP:20260424T180153
CREATED:20221017T154243Z
LAST-MODIFIED:20221017T154243Z
UID:5328-1698777000-1698777000@www.eggerode.de
SUMMARY:Generalversammlung Nikolausverein
DESCRIPTION:
URL:https://www.eggerode.de/event/generalversammlung-nikolausverein/
LOCATION:Hotel Winter
CATEGORIES:Veranstaltungen
END:VEVENT
END:VCALENDAR