BEGIN:VCALENDAR
VERSION:2.0
PRODID:-// - ECPv6.15.20//NONSGML v1.0//EN
CALSCALE:GREGORIAN
METHOD:PUBLISH
X-ORIGINAL-URL:https://www.eggerode.de
X-WR-CALDESC:Veranstaltungen für 
REFRESH-INTERVAL;VALUE=DURATION:PT1H
X-Robots-Tag:noindex
X-PUBLISHED-TTL:PT1H
BEGIN:VTIMEZONE
TZID:Europe/Berlin
BEGIN:DAYLIGHT
TZOFFSETFROM:+0100
TZOFFSETTO:+0200
TZNAME:CEST
DTSTART:20230326T010000
END:DAYLIGHT
BEGIN:STANDARD
TZOFFSETFROM:+0200
TZOFFSETTO:+0100
TZNAME:CET
DTSTART:20231029T010000
END:STANDARD
BEGIN:DAYLIGHT
TZOFFSETFROM:+0100
TZOFFSETTO:+0200
TZNAME:CEST
DTSTART:20240331T010000
END:DAYLIGHT
BEGIN:STANDARD
TZOFFSETFROM:+0200
TZOFFSETTO:+0100
TZNAME:CET
DTSTART:20241027T010000
END:STANDARD
BEGIN:DAYLIGHT
TZOFFSETFROM:+0100
TZOFFSETTO:+0200
TZNAME:CEST
DTSTART:20250330T010000
END:DAYLIGHT
BEGIN:STANDARD
TZOFFSETFROM:+0200
TZOFFSETTO:+0100
TZNAME:CET
DTSTART:20251026T010000
END:STANDARD
END:VTIMEZONE
BEGIN:VEVENT
DTSTART;TZID=Europe/Berlin:20241015T140000
DTEND;TZID=Europe/Berlin:20241015T180000
DTSTAMP:20260421T180309
CREATED:20231017T092825Z
LAST-MODIFIED:20231017T092825Z
UID:6439-1729000800-1729015200@www.eggerode.de
SUMMARY:Fahrradtour Heimatverein
DESCRIPTION:
URL:https://www.eggerode.de/event/fahrradtour-heimatverein-18/
LOCATION:Heimatstube Eggerode
CATEGORIES:Veranstaltungen
END:VEVENT
BEGIN:VEVENT
DTSTART;TZID=Europe/Berlin:20241015T190000
DTEND;TZID=Europe/Berlin:20241015T200000
DTSTAMP:20260421T180309
CREATED:20231017T085203Z
LAST-MODIFIED:20231017T085203Z
UID:6367-1729018800-1729022400@www.eggerode.de
SUMMARY:Rosenkranzandacht aller Eggeroder Vereine
DESCRIPTION:
URL:https://www.eggerode.de/event/rosenkranzandacht-aller-eggeroder-vereine-2/
LOCATION:Kirche St. Marien
CATEGORIES:Kirchliche Veranstaltung
END:VEVENT
END:VCALENDAR