BEGIN:VCALENDAR
VERSION:2.0
PRODID:-// - ECPv6.15.20//NONSGML v1.0//EN
CALSCALE:GREGORIAN
METHOD:PUBLISH
X-ORIGINAL-URL:https://www.eggerode.de
X-WR-CALDESC:Veranstaltungen für 
REFRESH-INTERVAL;VALUE=DURATION:PT1H
X-Robots-Tag:noindex
X-PUBLISHED-TTL:PT1H
BEGIN:VTIMEZONE
TZID:Europe/Berlin
BEGIN:DAYLIGHT
TZOFFSETFROM:+0100
TZOFFSETTO:+0200
TZNAME:CEST
DTSTART:20230326T010000
END:DAYLIGHT
BEGIN:STANDARD
TZOFFSETFROM:+0200
TZOFFSETTO:+0100
TZNAME:CET
DTSTART:20231029T010000
END:STANDARD
BEGIN:DAYLIGHT
TZOFFSETFROM:+0100
TZOFFSETTO:+0200
TZNAME:CEST
DTSTART:20240331T010000
END:DAYLIGHT
BEGIN:STANDARD
TZOFFSETFROM:+0200
TZOFFSETTO:+0100
TZNAME:CET
DTSTART:20241027T010000
END:STANDARD
BEGIN:DAYLIGHT
TZOFFSETFROM:+0100
TZOFFSETTO:+0200
TZNAME:CEST
DTSTART:20250330T010000
END:DAYLIGHT
BEGIN:STANDARD
TZOFFSETFROM:+0200
TZOFFSETTO:+0100
TZNAME:CET
DTSTART:20251026T010000
END:STANDARD
END:VTIMEZONE
BEGIN:VEVENT
DTSTART;TZID=Europe/Berlin:20241006T110000
DTEND;TZID=Europe/Berlin:20241006T130000
DTSTAMP:20260421T180131
CREATED:20231017T180802Z
LAST-MODIFIED:20231017T180802Z
UID:6483-1728212400-1728219600@www.eggerode.de
SUMMARY:offener Frühschoppen
DESCRIPTION:
URL:https://www.eggerode.de/event/offener-fruehschoppen-8/
LOCATION:Heimatstube Eggerode
CATEGORIES:Veranstaltungen
END:VEVENT
BEGIN:VEVENT
DTSTART;TZID=Europe/Berlin:20241006T140000
DTEND;TZID=Europe/Berlin:20241006T170000
DTSTAMP:20260421T180131
CREATED:20231017T080734Z
LAST-MODIFIED:20231017T080734Z
UID:6351-1728223200-1728234000@www.eggerode.de
SUMMARY:Erntedank - Kaffee
DESCRIPTION:
URL:https://www.eggerode.de/event/erntedank-kaffee/
LOCATION:Pfarrheim Eggerode
CATEGORIES:Kirchliche Veranstaltung
END:VEVENT
END:VCALENDAR