BEGIN:VCALENDAR
VERSION:2.0
PRODID:-// - ECPv6.15.20//NONSGML v1.0//EN
CALSCALE:GREGORIAN
METHOD:PUBLISH
X-ORIGINAL-URL:https://www.eggerode.de
X-WR-CALDESC:Veranstaltungen für 
REFRESH-INTERVAL;VALUE=DURATION:PT1H
X-Robots-Tag:noindex
X-PUBLISHED-TTL:PT1H
BEGIN:VTIMEZONE
TZID:Europe/Berlin
BEGIN:DAYLIGHT
TZOFFSETFROM:+0100
TZOFFSETTO:+0200
TZNAME:CEST
DTSTART:20230326T010000
END:DAYLIGHT
BEGIN:STANDARD
TZOFFSETFROM:+0200
TZOFFSETTO:+0100
TZNAME:CET
DTSTART:20231029T010000
END:STANDARD
BEGIN:DAYLIGHT
TZOFFSETFROM:+0100
TZOFFSETTO:+0200
TZNAME:CEST
DTSTART:20240331T010000
END:DAYLIGHT
BEGIN:STANDARD
TZOFFSETFROM:+0200
TZOFFSETTO:+0100
TZNAME:CET
DTSTART:20241027T010000
END:STANDARD
BEGIN:DAYLIGHT
TZOFFSETFROM:+0100
TZOFFSETTO:+0200
TZNAME:CEST
DTSTART:20250330T010000
END:DAYLIGHT
BEGIN:STANDARD
TZOFFSETFROM:+0200
TZOFFSETTO:+0100
TZNAME:CET
DTSTART:20251026T010000
END:STANDARD
END:VTIMEZONE
BEGIN:VEVENT
DTSTART;TZID=Europe/Berlin:20240914T100000
DTEND;TZID=Europe/Berlin:20240914T180000
DTSTAMP:20260421T192820
CREATED:20240903T073128Z
LAST-MODIFIED:20240903T073128Z
UID:7047-1726308000-1726336800@www.eggerode.de
SUMMARY:Stadt - Land - spielt
DESCRIPTION:wir laden euch herzlich zu einem Wochenende voller Spaß und Spannung in die Heimatstube Eggerode ein! Am Samstag\, den 14.09.2024 von 10:00 bis 18:00 Uhr und Sonntag\, den 15.09.2024 von 11:00 bis 17:00 Uhr heißt es wieder: Würfeln\, Karten mischen und gemeinsam tolle Spiele entdecken. \nOb Jung oder Alt\, ob Familie oder Freunde – für jeden ist etwas dabei. Kommt vorbei\, taucht in die Welt der Spiele ein und erlebt unvergessliche Momente! \n📍 Heimatstube Eggerode\nGildestr. 6\n48624 Schöppingen-Eggerode \n„Stadt-Land-Spielt!“ ist ein Non-Profit-Projekt\, das seit 2013 jedes Jahr Mitte September stattfindet. Das Spielewochenende will Menschen über die Grenzen von Herkunft\, Generationen\, sozialer Herkunft sowie physischer und psychischer Verfassung hinaus verbinden. Die Brettspielbranche trägt dieses Projekt. So ist es dem großen Engagement von Spieleverlagen und Unterstützern zu verdanken\, dass diese Spieletage durchgeführt werden können.
URL:https://www.eggerode.de/event/stadt-land-spielt/
LOCATION:Heimatstube Eggerode
CATEGORIES:Veranstaltungen
END:VEVENT
END:VCALENDAR