BEGIN:VCALENDAR
VERSION:2.0
PRODID:-// - ECPv6.15.20//NONSGML v1.0//EN
CALSCALE:GREGORIAN
METHOD:PUBLISH
X-ORIGINAL-URL:https://www.eggerode.de
X-WR-CALDESC:Veranstaltungen für 
REFRESH-INTERVAL;VALUE=DURATION:PT1H
X-Robots-Tag:noindex
X-PUBLISHED-TTL:PT1H
BEGIN:VTIMEZONE
TZID:Europe/Berlin
BEGIN:DAYLIGHT
TZOFFSETFROM:+0100
TZOFFSETTO:+0200
TZNAME:CEST
DTSTART:20230326T010000
END:DAYLIGHT
BEGIN:STANDARD
TZOFFSETFROM:+0200
TZOFFSETTO:+0100
TZNAME:CET
DTSTART:20231029T010000
END:STANDARD
BEGIN:DAYLIGHT
TZOFFSETFROM:+0100
TZOFFSETTO:+0200
TZNAME:CEST
DTSTART:20240331T010000
END:DAYLIGHT
BEGIN:STANDARD
TZOFFSETFROM:+0200
TZOFFSETTO:+0100
TZNAME:CET
DTSTART:20241027T010000
END:STANDARD
BEGIN:DAYLIGHT
TZOFFSETFROM:+0100
TZOFFSETTO:+0200
TZNAME:CEST
DTSTART:20250330T010000
END:DAYLIGHT
BEGIN:STANDARD
TZOFFSETFROM:+0200
TZOFFSETTO:+0100
TZNAME:CET
DTSTART:20251026T010000
END:STANDARD
END:VTIMEZONE
BEGIN:VEVENT
DTSTART;VALUE=DATE:20240824
DTEND;VALUE=DATE:20240825
DTSTAMP:20260421T210014
CREATED:20231017T193004Z
LAST-MODIFIED:20231017T193004Z
UID:6545-1724457600-1724543999@www.eggerode.de
SUMMARY:Dankeschön - Fahrt Chorkinder und Messdiener
DESCRIPTION:
URL:https://www.eggerode.de/event/dankeschoen-fahrt-chorkinder-und-messdiener/
CATEGORIES:Kirchliche Veranstaltung
END:VEVENT
BEGIN:VEVENT
DTSTART;TZID=Europe/Berlin:20240824T100000
DTEND;TZID=Europe/Berlin:20240824T130000
DTSTAMP:20260421T210014
CREATED:20231015T092708Z
LAST-MODIFIED:20231015T094746Z
UID:6301-1724493600-1724504400@www.eggerode.de
SUMMARY:4. Arbeitstag ASV Eggerode
DESCRIPTION:
URL:https://www.eggerode.de/event/4-arbeitstag-asv-eggerode/
LOCATION:Teichanlage Schulze Sievert
CATEGORIES:Veranstaltungen
END:VEVENT
END:VCALENDAR