BEGIN:VCALENDAR
VERSION:2.0
PRODID:-// - ECPv6.15.20//NONSGML v1.0//EN
CALSCALE:GREGORIAN
METHOD:PUBLISH
X-ORIGINAL-URL:https://www.eggerode.de
X-WR-CALDESC:Veranstaltungen für 
REFRESH-INTERVAL;VALUE=DURATION:PT1H
X-Robots-Tag:noindex
X-PUBLISHED-TTL:PT1H
BEGIN:VTIMEZONE
TZID:Europe/Berlin
BEGIN:DAYLIGHT
TZOFFSETFROM:+0100
TZOFFSETTO:+0200
TZNAME:CEST
DTSTART:20230326T010000
END:DAYLIGHT
BEGIN:STANDARD
TZOFFSETFROM:+0200
TZOFFSETTO:+0100
TZNAME:CET
DTSTART:20231029T010000
END:STANDARD
BEGIN:DAYLIGHT
TZOFFSETFROM:+0100
TZOFFSETTO:+0200
TZNAME:CEST
DTSTART:20240331T010000
END:DAYLIGHT
BEGIN:STANDARD
TZOFFSETFROM:+0200
TZOFFSETTO:+0100
TZNAME:CET
DTSTART:20241027T010000
END:STANDARD
BEGIN:DAYLIGHT
TZOFFSETFROM:+0100
TZOFFSETTO:+0200
TZNAME:CEST
DTSTART:20250330T010000
END:DAYLIGHT
BEGIN:STANDARD
TZOFFSETFROM:+0200
TZOFFSETTO:+0100
TZNAME:CET
DTSTART:20251026T010000
END:STANDARD
END:VTIMEZONE
BEGIN:VEVENT
DTSTART;TZID=Europe/Berlin:20240427T133000
DTEND;TZID=Europe/Berlin:20240427T170000
DTSTAMP:20260424T101925
CREATED:20231015T093251Z
LAST-MODIFIED:20231015T094936Z
UID:6313-1714224600-1714237200@www.eggerode.de
SUMMARY:Forellenangeln
DESCRIPTION:
URL:https://www.eggerode.de/event/forellenangeln-3/
LOCATION:Teichanlage Kappelhoff
CATEGORIES:Veranstaltungen
END:VEVENT
BEGIN:VEVENT
DTSTART;TZID=Europe/Berlin:20240427T180000
DTEND;TZID=Europe/Berlin:20240427T223000
DTSTAMP:20260424T101925
CREATED:20231017T085653Z
LAST-MODIFIED:20231017T085653Z
UID:6377-1714240800-1714257000@www.eggerode.de
SUMMARY:Maigang Kirchenchor
DESCRIPTION:
URL:https://www.eggerode.de/event/maigang-kirchenchor-3/
LOCATION:Pfarrheim Eggerode
CATEGORIES:Veranstaltungen
END:VEVENT
END:VCALENDAR