BEGIN:VCALENDAR
VERSION:2.0
PRODID:-// - ECPv6.15.20//NONSGML v1.0//EN
CALSCALE:GREGORIAN
METHOD:PUBLISH
X-ORIGINAL-URL:https://www.eggerode.de
X-WR-CALDESC:Veranstaltungen für 
REFRESH-INTERVAL;VALUE=DURATION:PT1H
X-Robots-Tag:noindex
X-PUBLISHED-TTL:PT1H
BEGIN:VTIMEZONE
TZID:Europe/Berlin
BEGIN:DAYLIGHT
TZOFFSETFROM:+0100
TZOFFSETTO:+0200
TZNAME:CEST
DTSTART:20230326T010000
END:DAYLIGHT
BEGIN:STANDARD
TZOFFSETFROM:+0200
TZOFFSETTO:+0100
TZNAME:CET
DTSTART:20231029T010000
END:STANDARD
BEGIN:DAYLIGHT
TZOFFSETFROM:+0100
TZOFFSETTO:+0200
TZNAME:CEST
DTSTART:20240331T010000
END:DAYLIGHT
BEGIN:STANDARD
TZOFFSETFROM:+0200
TZOFFSETTO:+0100
TZNAME:CET
DTSTART:20241027T010000
END:STANDARD
BEGIN:DAYLIGHT
TZOFFSETFROM:+0100
TZOFFSETTO:+0200
TZNAME:CEST
DTSTART:20250330T010000
END:DAYLIGHT
BEGIN:STANDARD
TZOFFSETFROM:+0200
TZOFFSETTO:+0100
TZNAME:CET
DTSTART:20251026T010000
END:STANDARD
END:VTIMEZONE
BEGIN:VEVENT
DTSTART;VALUE=DATE:20240120
DTEND;VALUE=DATE:20240121
DTSTAMP:20260424T143939
CREATED:20231017T090106Z
LAST-MODIFIED:20231017T090106Z
UID:6385-1705708800-1705795199@www.eggerode.de
SUMMARY:Wintergang und Manöverkritik
DESCRIPTION:
URL:https://www.eggerode.de/event/wintergang-und-manoeverkritik/
CATEGORIES:Veranstaltungen
END:VEVENT
BEGIN:VEVENT
DTSTART;VALUE=DATE:20240120
DTEND;VALUE=DATE:20240122
DTSTAMP:20260424T143939
CREATED:20231018T084502Z
LAST-MODIFIED:20231018T084502Z
UID:6563-1705708800-1705881599@www.eggerode.de
SUMMARY:Kommunionnachmittag mit Paten
DESCRIPTION:
URL:https://www.eggerode.de/event/kommunionnachmittag-mit-paten/
CATEGORIES:Kirchliche Veranstaltung
END:VEVENT
BEGIN:VEVENT
DTSTART;TZID=Europe/Berlin:20240120T140000
DTEND;TZID=Europe/Berlin:20240120T200000
DTSTAMP:20260424T143939
CREATED:20231017T181951Z
LAST-MODIFIED:20231017T181951Z
UID:6511-1705759200-1705780800@www.eggerode.de
SUMMARY:Wintergang Heimatverein
DESCRIPTION:
URL:https://www.eggerode.de/event/wintergang-heimatverein/
LOCATION:Heimatstube Eggerode
CATEGORIES:Veranstaltungen
END:VEVENT
BEGIN:VEVENT
DTSTART;TZID=Europe/Berlin:20240120T170000
DTEND;TZID=Europe/Berlin:20240120T220000
DTSTAMP:20260424T143939
CREATED:20231017T091208Z
LAST-MODIFIED:20231017T091208Z
UID:6405-1705770000-1705788000@www.eggerode.de
SUMMARY:Sebastianustag Bezirksverband Borken in Stadtlohn
DESCRIPTION:
URL:https://www.eggerode.de/event/sebastianustag-bezirksverband-borken-in-stadtlohn-2/
CATEGORIES:Veranstaltungen
END:VEVENT
BEGIN:VEVENT
DTSTART;TZID=Europe/Berlin:20240120T193000
DTEND;TZID=Europe/Berlin:20240120T223000
DTSTAMP:20260424T143939
CREATED:20231018T084928Z
LAST-MODIFIED:20231018T084928Z
UID:6569-1705779000-1705789800@www.eggerode.de
SUMMARY:Neujahrsempfang Gesamtpfarrei
DESCRIPTION:
URL:https://www.eggerode.de/event/neujahrsempfang-gesamtpfarrei/
LOCATION:Kulturhalle Schöppingen
CATEGORIES:Kirchliche Veranstaltung
END:VEVENT
END:VCALENDAR