BEGIN:VCALENDAR
VERSION:2.0
PRODID:-// - ECPv6.15.20//NONSGML v1.0//EN
CALSCALE:GREGORIAN
METHOD:PUBLISH
X-ORIGINAL-URL:https://www.eggerode.de
X-WR-CALDESC:Veranstaltungen für 
REFRESH-INTERVAL;VALUE=DURATION:PT1H
X-Robots-Tag:noindex
X-PUBLISHED-TTL:PT1H
BEGIN:VTIMEZONE
TZID:Europe/Berlin
BEGIN:DAYLIGHT
TZOFFSETFROM:+0100
TZOFFSETTO:+0200
TZNAME:CEST
DTSTART:20220327T010000
END:DAYLIGHT
BEGIN:STANDARD
TZOFFSETFROM:+0200
TZOFFSETTO:+0100
TZNAME:CET
DTSTART:20221030T010000
END:STANDARD
BEGIN:DAYLIGHT
TZOFFSETFROM:+0100
TZOFFSETTO:+0200
TZNAME:CEST
DTSTART:20230326T010000
END:DAYLIGHT
BEGIN:STANDARD
TZOFFSETFROM:+0200
TZOFFSETTO:+0100
TZNAME:CET
DTSTART:20231029T010000
END:STANDARD
BEGIN:DAYLIGHT
TZOFFSETFROM:+0100
TZOFFSETTO:+0200
TZNAME:CEST
DTSTART:20240331T010000
END:DAYLIGHT
BEGIN:STANDARD
TZOFFSETFROM:+0200
TZOFFSETTO:+0100
TZNAME:CET
DTSTART:20241027T010000
END:STANDARD
END:VTIMEZONE
BEGIN:VEVENT
DTSTART;VALUE=DATE:20230902
DTEND;VALUE=DATE:20230911
DTSTAMP:20260424T211259
CREATED:20221017T150944Z
LAST-MODIFIED:20221017T150944Z
UID:5296-1693612800-1694390399@www.eggerode.de
SUMMARY:Marienfestwoche
DESCRIPTION:
URL:https://www.eggerode.de/event/marienfestwoche-2/
CATEGORIES:Kirchliche Veranstaltung
END:VEVENT
BEGIN:VEVENT
DTSTART;TZID=Europe/Berlin:20230910T150000
DTEND;TZID=Europe/Berlin:20230910T150000
DTSTAMP:20260424T211259
CREATED:20221017T144804Z
LAST-MODIFIED:20221017T144804Z
UID:5271-1694358000-1694358000@www.eggerode.de
SUMMARY:Abschluß der Marienfestwoche anschl. Prozession
DESCRIPTION:
URL:https://www.eggerode.de/event/abschluss-der-marienfestwoche-anschl-prozession/
LOCATION:Kirchplatz Eggerode
CATEGORIES:Kirchliche Veranstaltung
END:VEVENT
END:VCALENDAR